BEGIN:VCALENDAR
VERSION:2.0
PRODID:-//Gillespie CUSD #7 - ECPv6.15.20//NONSGML v1.0//EN
CALSCALE:GREGORIAN
METHOD:PUBLISH
X-WR-CALNAME:Gillespie CUSD #7
X-ORIGINAL-URL:https://gcusd7.org
X-WR-CALDESC:Events for Gillespie CUSD #7
REFRESH-INTERVAL;VALUE=DURATION:PT1H
X-Robots-Tag:noindex
X-PUBLISHED-TTL:PT1H
BEGIN:VTIMEZONE
TZID:America/Chicago
BEGIN:DAYLIGHT
TZOFFSETFROM:-0600
TZOFFSETTO:-0500
TZNAME:CDT
DTSTART:20240310T080000
END:DAYLIGHT
BEGIN:STANDARD
TZOFFSETFROM:-0500
TZOFFSETTO:-0600
TZNAME:CST
DTSTART:20241103T070000
END:STANDARD
BEGIN:DAYLIGHT
TZOFFSETFROM:-0600
TZOFFSETTO:-0500
TZNAME:CDT
DTSTART:20250309T080000
END:DAYLIGHT
BEGIN:STANDARD
TZOFFSETFROM:-0500
TZOFFSETTO:-0600
TZNAME:CST
DTSTART:20251102T070000
END:STANDARD
BEGIN:DAYLIGHT
TZOFFSETFROM:-0600
TZOFFSETTO:-0500
TZNAME:CDT
DTSTART:20260308T080000
END:DAYLIGHT
BEGIN:STANDARD
TZOFFSETFROM:-0500
TZOFFSETTO:-0600
TZNAME:CST
DTSTART:20261101T070000
END:STANDARD
END:VTIMEZONE
BEGIN:VEVENT
DTSTART;TZID=America/Chicago:20250919T073000
DTEND;TZID=America/Chicago:20250919T080000
DTSTAMP:20260420T202150
CREATED:20250829T202108Z
LAST-MODIFIED:20250918T222605Z
UID:24055-1758267000-1758268800@gcusd7.org
SUMMARY:Breakfast Pizza
DESCRIPTION:
URL:https://gcusd7.org/event/breakfast-pizza-21/
CATEGORIES:ES Menu
END:VEVENT
BEGIN:VEVENT
DTSTART;TZID=America/Chicago:20250918T110000
DTEND;TZID=America/Chicago:20250918T113000
DTSTAMP:20260420T202150
CREATED:20250829T202057Z
LAST-MODIFIED:20250917T221813Z
UID:24054-1758193200-1758195000@gcusd7.org
SUMMARY:Mini Corn Dogs or Garlic French Bread\, Salad\, Green Beans\, Fruit
DESCRIPTION:
URL:https://gcusd7.org/event/mini-corn-dogs-or-garlic-french-bread-salad-green-beans-fruit/
CATEGORIES:ES Menu
END:VEVENT
BEGIN:VEVENT
DTSTART;TZID=America/Chicago:20250918T080000
DTEND;TZID=America/Chicago:20250918T083000
DTSTAMP:20260420T202150
CREATED:20250829T202056Z
LAST-MODIFIED:20250917T221813Z
UID:24053-1758182400-1758184200@gcusd7.org
SUMMARY:Cheese Omelet
DESCRIPTION:
URL:https://gcusd7.org/event/cheese-omelet-15/
CATEGORIES:ES Menu
END:VEVENT
BEGIN:VEVENT
DTSTART;TZID=America/Chicago:20250917T110000
DTEND;TZID=America/Chicago:20250917T113000
DTSTAMP:20260420T202150
CREATED:20250829T202056Z
LAST-MODIFIED:20250916T221031Z
UID:24052-1758106800-1758108600@gcusd7.org
SUMMARY:Mini Meatloaf or Chicken Patty\, Cheesy Potatoes\, Salad\, & Fruit
DESCRIPTION:
URL:https://gcusd7.org/event/mini-meatloaf-or-chicken-patty-cheesy-potatoes-salad-fruit/
CATEGORIES:ES Menu
END:VEVENT
BEGIN:VEVENT
DTSTART;TZID=America/Chicago:20250917T073000
DTEND;TZID=America/Chicago:20250917T080000
DTSTAMP:20260420T202150
CREATED:20250829T202056Z
LAST-MODIFIED:20250916T221031Z
UID:24051-1758094200-1758096000@gcusd7.org
SUMMARY:Breakfast Burrito
DESCRIPTION:
URL:https://gcusd7.org/event/breakfast-burrito-9/
CATEGORIES:ES Menu
END:VEVENT
BEGIN:VEVENT
DTSTART;TZID=America/Chicago:20250917T072000
DTEND;TZID=America/Chicago:20250917T074500
DTSTAMP:20260420T202150
CREATED:20250613T173641Z
LAST-MODIFIED:20250916T221031Z
UID:23505-1758093600-1758095100@gcusd7.org
SUMMARY:Grade-Level Teams Meet
DESCRIPTION:
URL:https://gcusd7.org/event/grade-level-teams-meet-3/
LOCATION:Classrooms
CATEGORIES:ES Menu
END:VEVENT
BEGIN:VEVENT
DTSTART;TZID=America/Chicago:20250916T110000
DTEND;TZID=America/Chicago:20250916T113000
DTSTAMP:20260420T202150
CREATED:20250829T202056Z
LAST-MODIFIED:20250915T215918Z
UID:24050-1758020400-1758022200@gcusd7.org
SUMMARY:Orange Chicken or Pork Patty\, Fried Rice\, Egg Roll & Fruit
DESCRIPTION:
URL:https://gcusd7.org/event/orange-chicken-or-pork-patty-fried-rice-egg-roll-fruit/
CATEGORIES:ES Menu
END:VEVENT
BEGIN:VEVENT
DTSTART;TZID=America/Chicago:20250916T073000
DTEND;TZID=America/Chicago:20250916T080000
DTSTAMP:20260420T202150
CREATED:20250829T202056Z
LAST-MODIFIED:20250915T215917Z
UID:24049-1758007800-1758009600@gcusd7.org
SUMMARY:Scrambled Eggs
DESCRIPTION:
URL:https://gcusd7.org/event/scrambled-eggs-3/
CATEGORIES:ES Menu
END:VEVENT
BEGIN:VEVENT
DTSTART;TZID=America/Chicago:20250915T110000
DTEND;TZID=America/Chicago:20250915T113000
DTSTAMP:20260420T202150
CREATED:20250829T202056Z
LAST-MODIFIED:20250914T215116Z
UID:24048-1757934000-1757935800@gcusd7.org
SUMMARY:Chicken Noodle Soup or Ham & Cheese Croissant\, Salad\, & Fruit
DESCRIPTION:
URL:https://gcusd7.org/event/chicken-noodle-soup-or-ham-cheese-croissant-salad-fruit/
CATEGORIES:ES Menu
END:VEVENT
BEGIN:VEVENT
DTSTART;TZID=America/Chicago:20250915T073000
DTEND;TZID=America/Chicago:20250915T080000
DTSTAMP:20260420T202150
CREATED:20250829T202056Z
LAST-MODIFIED:20250914T215116Z
UID:24047-1757921400-1757923200@gcusd7.org
SUMMARY:Pop Tarts
DESCRIPTION:
URL:https://gcusd7.org/event/pop-tarts-28/
CATEGORIES:ES Menu
END:VEVENT
BEGIN:VEVENT
DTSTART;TZID=America/Chicago:20250912T110000
DTEND;TZID=America/Chicago:20250912T113000
DTSTAMP:20260420T202150
CREATED:20250829T202056Z
LAST-MODIFIED:20250911T213416Z
UID:24046-1757674800-1757676600@gcusd7.org
SUMMARY:Grilled Chicken/Bun or Chicken Strips\, Salad\, Fruit
DESCRIPTION:
URL:https://gcusd7.org/event/grilled-chicken-bun-or-chicken-strips-salad-fruit/
CATEGORIES:ES Menu
END:VEVENT
BEGIN:VEVENT
DTSTART;TZID=America/Chicago:20250912T073000
DTEND;TZID=America/Chicago:20250912T080000
DTSTAMP:20260420T202150
CREATED:20250829T202044Z
LAST-MODIFIED:20250911T213416Z
UID:24045-1757662200-1757664000@gcusd7.org
SUMMARY:Pancake on a Stick
DESCRIPTION:
URL:https://gcusd7.org/event/pancake-on-a-stick-8/
CATEGORIES:ES Menu
END:VEVENT
BEGIN:VEVENT
DTSTART;TZID=America/Chicago:20250911T110000
DTEND;TZID=America/Chicago:20250911T113000
DTSTAMP:20260420T202150
CREATED:20250829T202044Z
LAST-MODIFIED:20250910T213019Z
UID:24044-1757588400-1757590200@gcusd7.org
SUMMARY:Hamburger Stew or Pepperoni French Bread\, Salad\, Fruit\, Mashed Potatoes
DESCRIPTION:
URL:https://gcusd7.org/event/hamburger-stew-or-pepperoni-french-bread-salad-fruit-mashed-potatoes/
CATEGORIES:ES Menu
END:VEVENT
BEGIN:VEVENT
DTSTART;TZID=America/Chicago:20250911T073000
DTEND;TZID=America/Chicago:20250911T080000
DTSTAMP:20260420T202150
CREATED:20250829T202044Z
LAST-MODIFIED:20250910T213019Z
UID:24043-1757575800-1757577600@gcusd7.org
SUMMARY:Confetti Pancakes
DESCRIPTION:
URL:https://gcusd7.org/event/confetti-pancakes-19/
CATEGORIES:ES Menu
END:VEVENT
BEGIN:VEVENT
DTSTART;TZID=America/Chicago:20250910T110000
DTEND;TZID=America/Chicago:20250910T113000
DTSTAMP:20260420T202150
CREATED:20250829T202044Z
LAST-MODIFIED:20250909T212915Z
UID:24042-1757502000-1757503800@gcusd7.org
SUMMARY:Chicken Slider/Bun or Corn Dog\, Salad\, Fruit\, Cheesestick
DESCRIPTION:
URL:https://gcusd7.org/event/chicken-slider-bun-or-corn-dog-salad-fruit-cheesestick/
CATEGORIES:ES Menu
END:VEVENT
BEGIN:VEVENT
DTSTART;TZID=America/Chicago:20250910T073000
DTEND;TZID=America/Chicago:20250910T080000
DTSTAMP:20260420T202150
CREATED:20250829T202043Z
LAST-MODIFIED:20250909T212915Z
UID:24041-1757489400-1757491200@gcusd7.org
SUMMARY:Apple Frudel
DESCRIPTION:
URL:https://gcusd7.org/event/apple-frudel-14/
CATEGORIES:ES Menu
END:VEVENT
BEGIN:VEVENT
DTSTART;TZID=America/Chicago:20250910T072000
DTEND;TZID=America/Chicago:20250910T074500
DTSTAMP:20260420T202150
CREATED:20250613T173641Z
LAST-MODIFIED:20250909T212915Z
UID:23504-1757488800-1757490300@gcusd7.org
SUMMARY:Grade-Level Teams Meet
DESCRIPTION:
URL:https://gcusd7.org/event/grade-level-teams-meet-2/
LOCATION:Classrooms
CATEGORIES:ES Menu
END:VEVENT
BEGIN:VEVENT
DTSTART;TZID=America/Chicago:20250909T110000
DTEND;TZID=America/Chicago:20250909T113000
DTSTAMP:20260420T202150
CREATED:20250829T202043Z
LAST-MODIFIED:20250908T212440Z
UID:24040-1757415600-1757417400@gcusd7.org
SUMMARY:Tortellini Soup or Toasted Cheese\, Salad\, Carrots\, & Fruit
DESCRIPTION:
URL:https://gcusd7.org/event/tortellini-soup-or-toasted-cheese-salad-carrots-fruit/
CATEGORIES:ES Menu
END:VEVENT
BEGIN:VEVENT
DTSTART;TZID=America/Chicago:20250909T073000
DTEND;TZID=America/Chicago:20250909T080000
DTSTAMP:20260420T202150
CREATED:20250829T202043Z
LAST-MODIFIED:20250908T212440Z
UID:24039-1757403000-1757404800@gcusd7.org
SUMMARY:Bacon
DESCRIPTION:
URL:https://gcusd7.org/event/bacon-3/
CATEGORIES:ES Menu
END:VEVENT
BEGIN:VEVENT
DTSTART;TZID=America/Chicago:20250908T110000
DTEND;TZID=America/Chicago:20250908T113000
DTSTAMP:20260420T202150
CREATED:20250829T202043Z
LAST-MODIFIED:20250907T212427Z
UID:24038-1757329200-1757331000@gcusd7.org
SUMMARY:Pork Patty or Fish\, Smiley Fries\, Salad\, & Fruit
DESCRIPTION:
URL:https://gcusd7.org/event/pork-patty-or-fish-smiley-fries-salad-fruit/
CATEGORIES:ES Menu
END:VEVENT
BEGIN:VEVENT
DTSTART;TZID=America/Chicago:20250908T073000
DTEND;TZID=America/Chicago:20250908T080000
DTSTAMP:20260420T202150
CREATED:20250829T202043Z
LAST-MODIFIED:20250907T212427Z
UID:24037-1757316600-1757318400@gcusd7.org
SUMMARY:Yogurt
DESCRIPTION:
URL:https://gcusd7.org/event/yogurt-67/
CATEGORIES:ES Menu
END:VEVENT
BEGIN:VEVENT
DTSTART;TZID=America/Chicago:20250905T110000
DTEND;TZID=America/Chicago:20250905T113000
DTSTAMP:20260420T202150
CREATED:20250829T202031Z
LAST-MODIFIED:20250904T211217Z
UID:24036-1757070000-1757071800@gcusd7.org
SUMMARY:Italian Beef or Philly Hot Pocket\, Salad\, Corn & Fruit
DESCRIPTION:
URL:https://gcusd7.org/event/italian-beef-or-philly-hot-pocket-salad-corn-fruit/
CATEGORIES:ES Menu
END:VEVENT
BEGIN:VEVENT
DTSTART;TZID=America/Chicago:20250905T073000
DTEND;TZID=America/Chicago:20250905T080000
DTSTAMP:20260420T202150
CREATED:20250829T202031Z
LAST-MODIFIED:20250904T211217Z
UID:24035-1757057400-1757059200@gcusd7.org
SUMMARY:Cinnamon Roll
DESCRIPTION:
URL:https://gcusd7.org/event/cinnamon-roll-19/
CATEGORIES:ES Menu
END:VEVENT
BEGIN:VEVENT
DTSTART;TZID=America/Chicago:20250904T110000
DTEND;TZID=America/Chicago:20250904T113000
DTSTAMP:20260420T202150
CREATED:20250829T202031Z
LAST-MODIFIED:20250903T210924Z
UID:24034-1756983600-1756985400@gcusd7.org
SUMMARY:Chicken Alfredo or Chicken Strips\, Salad\, Broccoli & Fruit
DESCRIPTION:
URL:https://gcusd7.org/event/chicken-alfredo-or-chicken-strips-salad-broccoli-fruit/
CATEGORIES:ES Menu
END:VEVENT
BEGIN:VEVENT
DTSTART;TZID=America/Chicago:20250904T073000
DTEND;TZID=America/Chicago:20250904T080000
DTSTAMP:20260420T202150
CREATED:20250829T202030Z
LAST-MODIFIED:20250903T210924Z
UID:24033-1756971000-1756972800@gcusd7.org
SUMMARY:Sausage Patties
DESCRIPTION:
URL:https://gcusd7.org/event/sausage-patties-9/
CATEGORIES:ES Menu
END:VEVENT
BEGIN:VEVENT
DTSTART;TZID=America/Chicago:20250903T110000
DTEND;TZID=America/Chicago:20250903T113000
DTSTAMP:20260420T202150
CREATED:20250829T202030Z
LAST-MODIFIED:20250902T205256Z
UID:24032-1756897200-1756899000@gcusd7.org
SUMMARY:Scrambled Eggs or Breakfast Pizza\, Hashbrowns\, Sausage\, & Fruit
DESCRIPTION:
URL:https://gcusd7.org/event/scrambled-eggs-or-breakfast-pizza-hashbrowns-sausage-fruit/
CATEGORIES:ES Menu
END:VEVENT
BEGIN:VEVENT
DTSTART;TZID=America/Chicago:20250903T073000
DTEND;TZID=America/Chicago:20250903T080000
DTSTAMP:20260420T202150
CREATED:20250829T202030Z
LAST-MODIFIED:20250902T205256Z
UID:24031-1756884600-1756886400@gcusd7.org
SUMMARY:Donuts
DESCRIPTION:
URL:https://gcusd7.org/event/donuts-17/
CATEGORIES:ES Menu
END:VEVENT
BEGIN:VEVENT
DTSTART;TZID=America/Chicago:20250903T072000
DTEND;TZID=America/Chicago:20250903T074500
DTSTAMP:20260420T202150
CREATED:20250613T173641Z
LAST-MODIFIED:20250902T205255Z
UID:23502-1756884000-1756885500@gcusd7.org
SUMMARY:Grade-Level Teams Meet
DESCRIPTION:
URL:https://gcusd7.org/event/grade-level-teams-meet/
LOCATION:Classrooms
CATEGORIES:ES Menu
END:VEVENT
BEGIN:VEVENT
DTSTART;TZID=America/Chicago:20250902T110000
DTEND;TZID=America/Chicago:20250902T113000
DTSTAMP:20260420T202150
CREATED:20250829T202030Z
LAST-MODIFIED:20250901T204924Z
UID:24030-1756810800-1756812600@gcusd7.org
SUMMARY:Pepperoni Pizza or Italian Wraps\, Salad\, Fruit\, & Green Beans
DESCRIPTION:
URL:https://gcusd7.org/event/pepperoni-pizza-or-italian-wraps-salad-fruit-green-beans/
CATEGORIES:ES Menu
END:VEVENT
BEGIN:VEVENT
DTSTART;TZID=America/Chicago:20250902T073000
DTEND;TZID=America/Chicago:20250902T080000
DTSTAMP:20260420T202150
CREATED:20250829T202030Z
LAST-MODIFIED:20250901T204924Z
UID:24029-1756798200-1756800000@gcusd7.org
SUMMARY:Pop Tarts
DESCRIPTION:
URL:https://gcusd7.org/event/pop-tarts-27/
CATEGORIES:ES Menu
END:VEVENT
END:VCALENDAR