BEGIN:VCALENDAR
VERSION:2.0
PRODID:-//Gillespie CUSD #7 - ECPv6.15.20//NONSGML v1.0//EN
CALSCALE:GREGORIAN
METHOD:PUBLISH
X-WR-CALNAME:Gillespie CUSD #7
X-ORIGINAL-URL:https://gcusd7.org
X-WR-CALDESC:Events for Gillespie CUSD #7
REFRESH-INTERVAL;VALUE=DURATION:PT1H
X-Robots-Tag:noindex
X-PUBLISHED-TTL:PT1H
BEGIN:VTIMEZONE
TZID:America/Chicago
BEGIN:DAYLIGHT
TZOFFSETFROM:-0600
TZOFFSETTO:-0500
TZNAME:CDT
DTSTART:20240310T080000
END:DAYLIGHT
BEGIN:STANDARD
TZOFFSETFROM:-0500
TZOFFSETTO:-0600
TZNAME:CST
DTSTART:20241103T070000
END:STANDARD
BEGIN:DAYLIGHT
TZOFFSETFROM:-0600
TZOFFSETTO:-0500
TZNAME:CDT
DTSTART:20250309T080000
END:DAYLIGHT
BEGIN:STANDARD
TZOFFSETFROM:-0500
TZOFFSETTO:-0600
TZNAME:CST
DTSTART:20251102T070000
END:STANDARD
BEGIN:DAYLIGHT
TZOFFSETFROM:-0600
TZOFFSETTO:-0500
TZNAME:CDT
DTSTART:20260308T080000
END:DAYLIGHT
BEGIN:STANDARD
TZOFFSETFROM:-0500
TZOFFSETTO:-0600
TZNAME:CST
DTSTART:20261101T070000
END:STANDARD
BEGIN:DAYLIGHT
TZOFFSETFROM:-0600
TZOFFSETTO:-0500
TZNAME:CDT
DTSTART:20270314T080000
END:DAYLIGHT
BEGIN:STANDARD
TZOFFSETFROM:-0500
TZOFFSETTO:-0600
TZNAME:CST
DTSTART:20271107T070000
END:STANDARD
END:VTIMEZONE
BEGIN:VEVENT
DTSTART;TZID=America/Chicago:20260107T072000
DTEND;TZID=America/Chicago:20260107T074500
DTSTAMP:20260420T132350
CREATED:20250613T173710Z
LAST-MODIFIED:20260106T204342Z
UID:23528-1767770400-1767771900@gcusd7.org
SUMMARY:Grade-Level Teams Meet
DESCRIPTION:
URL:https://gcusd7.org/event/grade-level-teams-meet-19/
LOCATION:Classrooms
CATEGORIES:ES Menu
END:VEVENT
BEGIN:VEVENT
DTSTART;TZID=America/Chicago:20251231T072000
DTEND;TZID=America/Chicago:20251231T074500
DTSTAMP:20260420T132350
CREATED:20250613T173710Z
LAST-MODIFIED:20251230T193619Z
UID:23527-1767165600-1767167100@gcusd7.org
SUMMARY:Grade-Level Teams Meet
DESCRIPTION:
URL:https://gcusd7.org/event/grade-level-teams-meet-18/
LOCATION:Classrooms
CATEGORIES:ES Menu
END:VEVENT
BEGIN:VEVENT
DTSTART;TZID=America/Chicago:20251224T072000
DTEND;TZID=America/Chicago:20251224T074500
DTSTAMP:20260420T132350
CREATED:20250613T173710Z
LAST-MODIFIED:20251223T185000Z
UID:23526-1766560800-1766562300@gcusd7.org
SUMMARY:Grade-Level Teams Meet
DESCRIPTION:
URL:https://gcusd7.org/event/grade-level-teams-meet-17/
LOCATION:Classrooms
CATEGORIES:ES Menu
END:VEVENT
BEGIN:VEVENT
DTSTART;TZID=America/Chicago:20251217T072000
DTEND;TZID=America/Chicago:20251217T074500
DTSTAMP:20260420T132350
CREATED:20250613T173710Z
LAST-MODIFIED:20251216T180052Z
UID:23525-1765956000-1765957500@gcusd7.org
SUMMARY:Grade-Level Teams Meet
DESCRIPTION:
URL:https://gcusd7.org/event/grade-level-teams-meet-16/
LOCATION:Classrooms
CATEGORIES:ES Menu
END:VEVENT
BEGIN:VEVENT
DTSTART;TZID=America/Chicago:20251210T072000
DTEND;TZID=America/Chicago:20251210T074500
DTSTAMP:20260420T132350
CREATED:20250613T173656Z
LAST-MODIFIED:20251209T170242Z
UID:23524-1765351200-1765352700@gcusd7.org
SUMMARY:Grade-Level Teams Meet
DESCRIPTION:
URL:https://gcusd7.org/event/grade-level-teams-meet-15/
LOCATION:Classrooms
CATEGORIES:ES Menu
END:VEVENT
BEGIN:VEVENT
DTSTART;TZID=America/Chicago:20251209T072000
DTEND;TZID=America/Chicago:20251209T075000
DTSTAMP:20260420T132350
CREATED:20250623T220303Z
LAST-MODIFIED:20251208T164639Z
UID:23732-1765264800-1765266600@gcusd7.org
SUMMARY:Staff Meeting
DESCRIPTION:
URL:https://gcusd7.org/event/staff-meeting/
LOCATION:BES Meeting Room
CATEGORIES:ES Menu
END:VEVENT
BEGIN:VEVENT
DTSTART;TZID=America/Chicago:20251204T072000
DTEND;TZID=America/Chicago:20251204T075000
DTSTAMP:20260420T132350
CREATED:20250623T220303Z
LAST-MODIFIED:20251203T161939Z
UID:23731-1764832800-1764834600@gcusd7.org
SUMMARY:Volunteer Cmas Planning
DESCRIPTION:
URL:https://gcusd7.org/event/volunteer-cmas-planning-2/
LOCATION:BES Meeting Room
CATEGORIES:ES Menu
END:VEVENT
BEGIN:VEVENT
DTSTART;TZID=America/Chicago:20251203T072000
DTEND;TZID=America/Chicago:20251203T074500
DTSTAMP:20260420T132350
CREATED:20250613T173656Z
LAST-MODIFIED:20251202T161322Z
UID:23523-1764746400-1764747900@gcusd7.org
SUMMARY:Grade-Level Teams Meet
DESCRIPTION:
URL:https://gcusd7.org/event/grade-level-teams-meet-14/
LOCATION:Classrooms
CATEGORIES:ES Menu
END:VEVENT
BEGIN:VEVENT
DTSTART;TZID=America/Chicago:20251202T072000
DTEND;TZID=America/Chicago:20251202T075000
DTSTAMP:20260420T132350
CREATED:20250623T220250Z
LAST-MODIFIED:20251201T155524Z
UID:23730-1764660000-1764661800@gcusd7.org
SUMMARY:Volunteer Cmas Planning
DESCRIPTION:
URL:https://gcusd7.org/event/volunteer-cmas-planning/
LOCATION:BES Meeting Room
CATEGORIES:ES Menu
END:VEVENT
BEGIN:VEVENT
DTSTART;TZID=America/Chicago:20251126T072000
DTEND;TZID=America/Chicago:20251126T074500
DTSTAMP:20260420T132350
CREATED:20250613T173656Z
LAST-MODIFIED:20251125T151736Z
UID:23522-1764141600-1764143100@gcusd7.org
SUMMARY:Grade-Level Teams Meet
DESCRIPTION:
URL:https://gcusd7.org/event/grade-level-teams-meet-13/
LOCATION:Classrooms
CATEGORIES:ES Menu
END:VEVENT
BEGIN:VEVENT
DTSTART;TZID=America/Chicago:20251125T072000
DTEND;TZID=America/Chicago:20251125T074500
DTSTAMP:20260420T132350
CREATED:20250613T173656Z
LAST-MODIFIED:20251124T151439Z
UID:23521-1764055200-1764056700@gcusd7.org
SUMMARY:VOLUNTEER Cmas Planning Meeting
DESCRIPTION:
URL:https://gcusd7.org/event/volunteer-cmas-planning-meeting-2/
LOCATION:BES Meeting Room
CATEGORIES:ES Menu
END:VEVENT
BEGIN:VEVENT
DTSTART;TZID=America/Chicago:20251119T072000
DTEND;TZID=America/Chicago:20251119T074500
DTSTAMP:20260420T132350
CREATED:20250613T173656Z
LAST-MODIFIED:20251118T141530Z
UID:23520-1763536800-1763538300@gcusd7.org
SUMMARY:Grade-Level Teams Meet
DESCRIPTION:
URL:https://gcusd7.org/event/grade-level-teams-meet-12/
LOCATION:Classrooms
CATEGORIES:ES Menu
END:VEVENT
BEGIN:VEVENT
DTSTART;TZID=America/Chicago:20251112T072000
DTEND;TZID=America/Chicago:20251112T074500
DTSTAMP:20260420T132350
CREATED:20250613T173656Z
LAST-MODIFIED:20251112T131133Z
UID:23519-1762932000-1762933500@gcusd7.org
SUMMARY:Grade-Level Teams Meet
DESCRIPTION:
URL:https://gcusd7.org/event/grade-level-teams-meet-11/
LOCATION:Classrooms
CATEGORIES:ES Menu
END:VEVENT
BEGIN:VEVENT
DTSTART;TZID=America/Chicago:20251105T072000
DTEND;TZID=America/Chicago:20251105T074500
DTSTAMP:20260420T132350
CREATED:20250613T173655Z
LAST-MODIFIED:20251105T121903Z
UID:23518-1762327200-1762328700@gcusd7.org
SUMMARY:Grade-Level Teams Meet
DESCRIPTION:
URL:https://gcusd7.org/event/grade-level-teams-meet-10/
LOCATION:Classrooms
CATEGORIES:ES Menu
END:VEVENT
BEGIN:VEVENT
DTSTART;TZID=America/Chicago:20251103T072000
DTEND;TZID=America/Chicago:20251103T074500
DTSTAMP:20260420T132350
CREATED:20250613T173655Z
LAST-MODIFIED:20251103T120648Z
UID:23517-1762154400-1762155900@gcusd7.org
SUMMARY:VOLUNTEER Cmas Planning Meeting
DESCRIPTION:
URL:https://gcusd7.org/event/volunteer-cmas-planning-meeting/
LOCATION:BES Meeting Room
CATEGORIES:ES Menu
END:VEVENT
BEGIN:VEVENT
DTSTART;TZID=America/Chicago:20251029T072000
DTEND;TZID=America/Chicago:20251029T074500
DTSTAMP:20260420T132350
CREATED:20250613T173655Z
LAST-MODIFIED:20251029T114947Z
UID:23516-1761722400-1761723900@gcusd7.org
SUMMARY:Grade-Level Teams Meet
DESCRIPTION:
URL:https://gcusd7.org/event/grade-level-teams-meet-9/
LOCATION:Classrooms
CATEGORIES:ES Menu
END:VEVENT
BEGIN:VEVENT
DTSTART;TZID=America/Chicago:20251022T072000
DTEND;TZID=America/Chicago:20251022T074500
DTSTAMP:20260420T132350
CREATED:20250613T173655Z
LAST-MODIFIED:20251022T110933Z
UID:23515-1761117600-1761119100@gcusd7.org
SUMMARY:Grade-Level Teams Meet
DESCRIPTION:
URL:https://gcusd7.org/event/grade-level-teams-meet-8/
LOCATION:Classrooms
CATEGORIES:ES Menu
END:VEVENT
BEGIN:VEVENT
DTSTART;TZID=America/Chicago:20251017T072000
DTEND;TZID=America/Chicago:20251017T074500
DTSTAMP:20260420T132350
CREATED:20250613T173643Z
LAST-MODIFIED:20251017T103258Z
UID:23514-1760685600-1760687100@gcusd7.org
SUMMARY:BES Staff Meeting
DESCRIPTION:
URL:https://gcusd7.org/event/bes-staff-meeting-2/
LOCATION:BES Meeting Room
CATEGORIES:ES Menu
END:VEVENT
BEGIN:VEVENT
DTSTART;TZID=America/Chicago:20251015T072000
DTEND;TZID=America/Chicago:20251015T074500
DTSTAMP:20260420T132350
CREATED:20250613T173643Z
LAST-MODIFIED:20251015T102311Z
UID:23513-1760512800-1760514300@gcusd7.org
SUMMARY:Grade-Level Teams Meet
DESCRIPTION:
URL:https://gcusd7.org/event/grade-level-teams-meet-7/
LOCATION:Classrooms
CATEGORIES:ES Menu
END:VEVENT
BEGIN:VEVENT
DTSTART;TZID=America/Chicago:20251008T072000
DTEND;TZID=America/Chicago:20251008T074500
DTSTAMP:20260420T132350
CREATED:20250613T173643Z
LAST-MODIFIED:20251008T090714Z
UID:23512-1759908000-1759909500@gcusd7.org
SUMMARY:Grade-Level Teams Meet
DESCRIPTION:
URL:https://gcusd7.org/event/grade-level-teams-meet-6/
LOCATION:Classrooms
CATEGORIES:ES Menu
END:VEVENT
BEGIN:VEVENT
DTSTART;TZID=America/Chicago:20251007T072000
DTEND;TZID=America/Chicago:20251007T074500
DTSTAMP:20260420T132350
CREATED:20250613T173643Z
LAST-MODIFIED:20251007T085106Z
UID:23511-1759821600-1759823100@gcusd7.org
SUMMARY:Staff Safety Meeting
DESCRIPTION:
URL:https://gcusd7.org/event/staff-safety-meeting/
LOCATION:BES Meeting Room
CATEGORIES:ES Menu
END:VEVENT
BEGIN:VEVENT
DTSTART;TZID=America/Chicago:20251001T072000
DTEND;TZID=America/Chicago:20251001T074500
DTSTAMP:20260420T132350
CREATED:20250613T173642Z
LAST-MODIFIED:20250930T234747Z
UID:23509-1759303200-1759304700@gcusd7.org
SUMMARY:Grade-Level Teams Meet
DESCRIPTION:
URL:https://gcusd7.org/event/grade-level-teams-meet-5/
LOCATION:Classrooms
CATEGORIES:ES Menu
END:VEVENT
BEGIN:VEVENT
DTSTART;TZID=America/Chicago:20250930T110000
DTEND;TZID=America/Chicago:20250930T113000
DTSTAMP:20260420T132350
CREATED:20250829T202121Z
LAST-MODIFIED:20250929T234814Z
UID:24070-1759230000-1759231800@gcusd7.org
SUMMARY:Hamburger/Bun or BBQ Rib/Bun\, Tater Tots & Fruit
DESCRIPTION:
URL:https://gcusd7.org/event/hamburger-bun-or-bbq-rib-bun-tater-tots-fruit/
CATEGORIES:ES Menu
END:VEVENT
BEGIN:VEVENT
DTSTART;TZID=America/Chicago:20250930T073000
DTEND;TZID=America/Chicago:20250930T080000
DTSTAMP:20260420T132350
CREATED:20250829T202121Z
LAST-MODIFIED:20250929T234814Z
UID:24069-1759217400-1759219200@gcusd7.org
SUMMARY:Donuts
DESCRIPTION:
URL:https://gcusd7.org/event/donuts-18/
CATEGORIES:ES Menu
END:VEVENT
BEGIN:VEVENT
DTSTART;TZID=America/Chicago:20250929T110000
DTEND;TZID=America/Chicago:20250929T113000
DTSTAMP:20260420T132350
CREATED:20250829T202121Z
LAST-MODIFIED:20250928T234822Z
UID:24068-1759143600-1759145400@gcusd7.org
SUMMARY:Cheese Pizza or Corn Dog\, Salad\, Fruit & Green Beans
DESCRIPTION:
URL:https://gcusd7.org/event/cheese-pizza-or-corn-dog-salad-fruit-green-beans/
CATEGORIES:ES Menu
END:VEVENT
BEGIN:VEVENT
DTSTART;TZID=America/Chicago:20250929T073000
DTEND;TZID=America/Chicago:20250929T080000
DTSTAMP:20260420T132350
CREATED:20250829T202121Z
LAST-MODIFIED:20250928T234822Z
UID:24067-1759131000-1759132800@gcusd7.org
SUMMARY:Confetti Pancakes
DESCRIPTION:
URL:https://gcusd7.org/event/confetti-pancakes-20/
CATEGORIES:ES Menu
END:VEVENT
BEGIN:VEVENT
DTSTART;TZID=America/Chicago:20250926T130000
DTEND;TZID=America/Chicago:20250926T140000
DTSTAMP:20260420T132350
CREATED:20250904T211147Z
LAST-MODIFIED:20250925T232232Z
UID:24133-1758891600-1758895200@gcusd7.org
SUMMARY:Kindergarten parent activity
DESCRIPTION:
URL:https://gcusd7.org/event/kindergarten-parent-activity/
CATEGORIES:ES Menu
END:VEVENT
BEGIN:VEVENT
DTSTART;TZID=America/Chicago:20250926T110000
DTEND;TZID=America/Chicago:20250926T113000
DTSTAMP:20260420T132350
CREATED:20250829T202121Z
LAST-MODIFIED:20250925T232232Z
UID:24066-1758884400-1758886200@gcusd7.org
SUMMARY:Italian Wraps or Chicken Strips\, Salad\, Chips\, &Fruit
DESCRIPTION:
URL:https://gcusd7.org/event/italian-wraps-or-chicken-strips-salad-chips-fruit/
CATEGORIES:ES Menu
END:VEVENT
BEGIN:VEVENT
DTSTART;TZID=America/Chicago:20250926T073000
DTEND;TZID=America/Chicago:20250926T080000
DTSTAMP:20260420T132350
CREATED:20250829T202121Z
LAST-MODIFIED:20250925T232232Z
UID:24065-1758871800-1758873600@gcusd7.org
SUMMARY:Sausage Links
DESCRIPTION:
URL:https://gcusd7.org/event/sausage-links/
CATEGORIES:ES Menu
END:VEVENT
BEGIN:VEVENT
DTSTART;TZID=America/Chicago:20250925T110000
DTEND;TZID=America/Chicago:20250925T113000
DTSTAMP:20260420T132350
CREATED:20250829T202121Z
LAST-MODIFIED:20250924T231403Z
UID:24064-1758798000-1758799800@gcusd7.org
SUMMARY:Pizza Crunchers or Ham & Cheese Hot Pocket\, Salad\, Corn & Fruit
DESCRIPTION:
URL:https://gcusd7.org/event/pizza-crunchers-or-ham-cheese-hot-pocket-salad-corn-fruit/
CATEGORIES:ES Menu
END:VEVENT
END:VCALENDAR