BEGIN:VCALENDAR
VERSION:2.0
PRODID:-//Gillespie CUSD #7 - ECPv6.15.20//NONSGML v1.0//EN
CALSCALE:GREGORIAN
METHOD:PUBLISH
X-WR-CALNAME:Gillespie CUSD #7
X-ORIGINAL-URL:https://gcusd7.org
X-WR-CALDESC:Events for Gillespie CUSD #7
REFRESH-INTERVAL;VALUE=DURATION:PT1H
X-Robots-Tag:noindex
X-PUBLISHED-TTL:PT1H
BEGIN:VTIMEZONE
TZID:America/Chicago
BEGIN:DAYLIGHT
TZOFFSETFROM:-0600
TZOFFSETTO:-0500
TZNAME:CDT
DTSTART:20240310T080000
END:DAYLIGHT
BEGIN:STANDARD
TZOFFSETFROM:-0500
TZOFFSETTO:-0600
TZNAME:CST
DTSTART:20241103T070000
END:STANDARD
BEGIN:DAYLIGHT
TZOFFSETFROM:-0600
TZOFFSETTO:-0500
TZNAME:CDT
DTSTART:20250309T080000
END:DAYLIGHT
BEGIN:STANDARD
TZOFFSETFROM:-0500
TZOFFSETTO:-0600
TZNAME:CST
DTSTART:20251102T070000
END:STANDARD
BEGIN:DAYLIGHT
TZOFFSETFROM:-0600
TZOFFSETTO:-0500
TZNAME:CDT
DTSTART:20260308T080000
END:DAYLIGHT
BEGIN:STANDARD
TZOFFSETFROM:-0500
TZOFFSETTO:-0600
TZNAME:CST
DTSTART:20261101T070000
END:STANDARD
END:VTIMEZONE
BEGIN:VEVENT
DTSTART;TZID=America/Chicago:20250307T110000
DTEND;TZID=America/Chicago:20250307T113000
DTSTAMP:20260421T192105
CREATED:20250224T193628Z
LAST-MODIFIED:20250306T210720Z
UID:22850-1741345200-1741347000@gcusd7.org
SUMMARY:Cheese Breadsticks or Ham & Cheese Crossiant\, Salad\, Peas & Carrots\, Fruit
DESCRIPTION:
URL:https://gcusd7.org/event/cheese-breadsticks-or-ham-cheese-crossiant-salad-peas-carrots-fruit/
CATEGORIES:ES Menu
END:VEVENT
BEGIN:VEVENT
DTSTART;TZID=America/Chicago:20250307T073000
DTEND;TZID=America/Chicago:20250307T080000
DTSTAMP:20260421T192105
CREATED:20250224T193628Z
LAST-MODIFIED:20250306T210720Z
UID:22849-1741332600-1741334400@gcusd7.org
SUMMARY:Apple Turnover
DESCRIPTION:
URL:https://gcusd7.org/event/apple-turnover-2/
CATEGORIES:ES Menu
END:VEVENT
BEGIN:VEVENT
DTSTART;TZID=America/Chicago:20250306T110000
DTEND;TZID=America/Chicago:20250306T113000
DTSTAMP:20260421T192105
CREATED:20250224T193627Z
LAST-MODIFIED:20250305T210024Z
UID:22848-1741258800-1741260600@gcusd7.org
SUMMARY:BBQ Meatballs or Pulled Pork\, Salad\, Carrots\, Fruit
DESCRIPTION:
URL:https://gcusd7.org/event/bbq-meatballs-or-pulled-pork-salad-carrots-fruit/
CATEGORIES:ES Menu
END:VEVENT
BEGIN:VEVENT
DTSTART;TZID=America/Chicago:20250306T073000
DTEND;TZID=America/Chicago:20250306T080000
DTSTAMP:20260421T192105
CREATED:20250224T193627Z
LAST-MODIFIED:20250305T210024Z
UID:22847-1741246200-1741248000@gcusd7.org
SUMMARY:Sausage Patties
DESCRIPTION:
URL:https://gcusd7.org/event/sausage-patties-6/
CATEGORIES:ES Menu
END:VEVENT
BEGIN:VEVENT
DTSTART;TZID=America/Chicago:20250305T110000
DTEND;TZID=America/Chicago:20250305T113000
DTSTAMP:20260421T192105
CREATED:20250224T193627Z
LAST-MODIFIED:20250304T205001Z
UID:22846-1741172400-1741174200@gcusd7.org
SUMMARY:Cheese Omelet or Italian Wraps\, Green Beans\, Salad\, Fruit
DESCRIPTION:
URL:https://gcusd7.org/event/cheese-omelet-or-italian-wraps-green-beans-salad-fruit/
CATEGORIES:ES Menu
END:VEVENT
BEGIN:VEVENT
DTSTART;TZID=America/Chicago:20250305T073000
DTEND;TZID=America/Chicago:20250305T080000
DTSTAMP:20260421T192105
CREATED:20250224T193627Z
LAST-MODIFIED:20250304T205001Z
UID:22845-1741159800-1741161600@gcusd7.org
SUMMARY:Cheese Omelet
DESCRIPTION:
URL:https://gcusd7.org/event/cheese-omelet-10/
CATEGORIES:ES Menu
END:VEVENT
BEGIN:VEVENT
DTSTART;TZID=America/Chicago:20250304T110000
DTEND;TZID=America/Chicago:20250304T113000
DTSTAMP:20260421T192105
CREATED:20250224T193627Z
LAST-MODIFIED:20250303T205008Z
UID:22844-1741086000-1741087800@gcusd7.org
SUMMARY:Hamburger Stew or Chicken Patty\, Mashed Potatoes\, Salad\, Fruit
DESCRIPTION:
URL:https://gcusd7.org/event/hamburger-stew-or-chicken-patty-mashed-potatoes-salad-fruit/
CATEGORIES:ES Menu
END:VEVENT
BEGIN:VEVENT
DTSTART;TZID=America/Chicago:20250304T073000
DTEND;TZID=America/Chicago:20250304T080000
DTSTAMP:20260421T192105
CREATED:20250224T193614Z
LAST-MODIFIED:20250303T205008Z
UID:22843-1741073400-1741075200@gcusd7.org
SUMMARY:Scramble Egg
DESCRIPTION:
URL:https://gcusd7.org/event/scramble-egg/
CATEGORIES:ES Menu
END:VEVENT
BEGIN:VEVENT
DTSTART;TZID=America/Chicago:20250303T110000
DTEND;TZID=America/Chicago:20250303T113000
DTSTAMP:20260421T192105
CREATED:20250224T193614Z
LAST-MODIFIED:20250302T204227Z
UID:22842-1740999600-1741001400@gcusd7.org
SUMMARY:Pizza Crunchers or Taco Quesadilla\, Salad\, Spanish Rice\, Fruit
DESCRIPTION:
URL:https://gcusd7.org/event/pizza-crunchers-or-taco-quesadilla-salad-spanish-rice-fruit/
CATEGORIES:ES Menu
END:VEVENT
BEGIN:VEVENT
DTSTART;TZID=America/Chicago:20250303T073000
DTEND;TZID=America/Chicago:20250303T080000
DTSTAMP:20260421T192105
CREATED:20250224T193614Z
LAST-MODIFIED:20250302T204227Z
UID:22841-1740987000-1740988800@gcusd7.org
SUMMARY:Confetti Pancakes
DESCRIPTION:
URL:https://gcusd7.org/event/confetti-pancakes-16/
CATEGORIES:ES Menu
END:VEVENT
BEGIN:VEVENT
DTSTART;TZID=America/Chicago:20250228T073000
DTEND;TZID=America/Chicago:20250228T150000
DTSTAMP:20260421T192105
CREATED:20250129T161629Z
LAST-MODIFIED:20250228T202834Z
UID:22698-1740727800-1740754800@gcusd7.org
SUMMARY:Cook's Choice
DESCRIPTION:
URL:https://gcusd7.org/event/cooks-choice-11/
CATEGORIES:ES Menu
END:VEVENT
BEGIN:VEVENT
DTSTART;TZID=America/Chicago:20250227T110000
DTEND;TZID=America/Chicago:20250227T113000
DTSTAMP:20260421T192105
CREATED:20250129T161629Z
LAST-MODIFIED:20250226T201604Z
UID:22697-1740654000-1740655800@gcusd7.org
SUMMARY:Pepperoni Pizza or Ham & Cheese Hot Pocket\, Green Beans\, Salad\, Fruit
DESCRIPTION:
URL:https://gcusd7.org/event/pepperoni-pizza-or-ham-cheese-hot-pocket-green-beans-salad-fruit/
CATEGORIES:ES Menu
END:VEVENT
BEGIN:VEVENT
DTSTART;TZID=America/Chicago:20250227T073000
DTEND;TZID=America/Chicago:20250227T080000
DTSTAMP:20260421T192105
CREATED:20250129T161629Z
LAST-MODIFIED:20250226T201604Z
UID:22696-1740641400-1740643200@gcusd7.org
SUMMARY:Pancake
DESCRIPTION:
URL:https://gcusd7.org/event/pancake-3/
CATEGORIES:ES Menu
END:VEVENT
BEGIN:VEVENT
DTSTART;TZID=America/Chicago:20250226T110000
DTEND;TZID=America/Chicago:20250226T113000
DTSTAMP:20260421T192105
CREATED:20250129T161617Z
LAST-MODIFIED:20250225T194552Z
UID:22695-1740567600-1740569400@gcusd7.org
SUMMARY:Mini Corn Dogs or Hot Dogs\, Salad\, Corn\, Fruit
DESCRIPTION:
URL:https://gcusd7.org/event/mini-corn-dogs-or-hot-dogs-salad-corn-fruit/
CATEGORIES:ES Menu
END:VEVENT
BEGIN:VEVENT
DTSTART;TZID=America/Chicago:20250226T073000
DTEND;TZID=America/Chicago:20250226T080000
DTSTAMP:20260421T192105
CREATED:20250129T161616Z
LAST-MODIFIED:20250225T194552Z
UID:22694-1740555000-1740556800@gcusd7.org
SUMMARY:Sausage Pancake Sandwich
DESCRIPTION:
URL:https://gcusd7.org/event/sausage-pancake-sandwich/
CATEGORIES:ES Menu
END:VEVENT
BEGIN:VEVENT
DTSTART;TZID=America/Chicago:20250225T110000
DTEND;TZID=America/Chicago:20250225T113000
DTSTAMP:20260421T192105
CREATED:20250129T161616Z
LAST-MODIFIED:20250224T193944Z
UID:22693-1740481200-1740483000@gcusd7.org
SUMMARY:Chili or Turkey and Cheese on Bun\, Chips\, Crackers\, Cheese\, Fruit
DESCRIPTION:
URL:https://gcusd7.org/event/chili-or-turkey-and-cheese-on-bun-chips-crackers-cheese-fruit/
CATEGORIES:ES Menu
END:VEVENT
BEGIN:VEVENT
DTSTART;TZID=America/Chicago:20250225T080000
DTEND;TZID=America/Chicago:20250225T083000
DTSTAMP:20260421T192105
CREATED:20250129T161616Z
LAST-MODIFIED:20250224T193944Z
UID:22692-1740470400-1740472200@gcusd7.org
SUMMARY:Donuts
DESCRIPTION:
URL:https://gcusd7.org/event/donuts-14/
CATEGORIES:ES Menu
END:VEVENT
BEGIN:VEVENT
DTSTART;TZID=America/Chicago:20250224T110000
DTEND;TZID=America/Chicago:20250224T113000
DTSTAMP:20260421T192105
CREATED:20250129T161616Z
LAST-MODIFIED:20250223T193904Z
UID:22691-1740394800-1740396600@gcusd7.org
SUMMARY:Chicken Nuggets or Garlic French Bread\, Green Beans\, Pasta Salad\, Fruit
DESCRIPTION:
URL:https://gcusd7.org/event/chicken-nuggets-or-garlic-french-bread-green-beans-pasta-salad-fruit/
CATEGORIES:ES Menu
END:VEVENT
BEGIN:VEVENT
DTSTART;TZID=America/Chicago:20250224T073000
DTEND;TZID=America/Chicago:20250224T080000
DTSTAMP:20260421T192105
CREATED:20250129T161615Z
LAST-MODIFIED:20250223T193903Z
UID:22690-1740382200-1740384000@gcusd7.org
SUMMARY:Egg Cheese Hot Pocket
DESCRIPTION:
URL:https://gcusd7.org/event/egg-cheese-hot-pocket/
CATEGORIES:ES Menu
END:VEVENT
BEGIN:VEVENT
DTSTART;TZID=America/Chicago:20250221T110000
DTEND;TZID=America/Chicago:20250221T113000
DTSTAMP:20260421T192105
CREATED:20250129T161615Z
LAST-MODIFIED:20250220T190905Z
UID:22689-1740135600-1740137400@gcusd7.org
SUMMARY:Meatballs w/ Spag Sauce or Toasted Raviolis w/ Spag Sauce\, Salad\, Garlic Bread\, Fruit
DESCRIPTION:
URL:https://gcusd7.org/event/meatballs-w-spag-sauce-or-toasted-raviolis-w-spag-sauce-salad-garlic-bread-fruit/
CATEGORIES:ES Menu
END:VEVENT
BEGIN:VEVENT
DTSTART;TZID=America/Chicago:20250221T073000
DTEND;TZID=America/Chicago:20250221T080000
DTSTAMP:20260421T192105
CREATED:20250129T161615Z
LAST-MODIFIED:20250220T190905Z
UID:22688-1740123000-1740124800@gcusd7.org
SUMMARY:Sausage Patty Biscuits
DESCRIPTION:
URL:https://gcusd7.org/event/sausage-patty-biscuits-3/
CATEGORIES:ES Menu
END:VEVENT
BEGIN:VEVENT
DTSTART;TZID=America/Chicago:20250220T110000
DTEND;TZID=America/Chicago:20250220T113000
DTSTAMP:20260421T192105
CREATED:20250129T161615Z
LAST-MODIFIED:20250219T190824Z
UID:22687-1740049200-1740051000@gcusd7.org
SUMMARY:Crispitos or Nacho & Cheese\, Shredded Cheese\, Lettuce\, Salsa\, Sour Cream & Fruit
DESCRIPTION:
URL:https://gcusd7.org/event/crispitos-or-nacho-cheese-shredded-cheese-lettuce-salsa-sour-cream-fruit/
CATEGORIES:ES Menu
END:VEVENT
BEGIN:VEVENT
DTSTART;TZID=America/Chicago:20250220T080000
DTEND;TZID=America/Chicago:20250220T083000
DTSTAMP:20260421T192105
CREATED:20250129T161614Z
LAST-MODIFIED:20250219T190823Z
UID:22686-1740038400-1740040200@gcusd7.org
SUMMARY:Bacon & Cheese Omelet
DESCRIPTION:
URL:https://gcusd7.org/event/bacon-cheese-omelet/
CATEGORIES:ES Menu
END:VEVENT
BEGIN:VEVENT
DTSTART;TZID=America/Chicago:20250219T110000
DTEND;TZID=America/Chicago:20250219T113000
DTSTAMP:20260421T192105
CREATED:20250129T161602Z
LAST-MODIFIED:20250218T185059Z
UID:22685-1739962800-1739964600@gcusd7.org
SUMMARY:Hamburger or Italian Beef\, Salad\, Mac & Cheese\, Fruit
DESCRIPTION:
URL:https://gcusd7.org/event/hamburger-or-italian-beef-salad-mac-cheese-fruit/
CATEGORIES:ES Menu
END:VEVENT
BEGIN:VEVENT
DTSTART;TZID=America/Chicago:20250219T073000
DTEND;TZID=America/Chicago:20250219T080000
DTSTAMP:20260421T192105
CREATED:20250129T161601Z
LAST-MODIFIED:20250218T185059Z
UID:22684-1739950200-1739952000@gcusd7.org
SUMMARY:Sausage Egg Cheese Biscuit
DESCRIPTION:
URL:https://gcusd7.org/event/sausage-egg-cheese-biscuit-3/
CATEGORIES:ES Menu
END:VEVENT
BEGIN:VEVENT
DTSTART;TZID=America/Chicago:20250218T110000
DTEND;TZID=America/Chicago:20250218T113000
DTSTAMP:20260421T192105
CREATED:20250129T161601Z
LAST-MODIFIED:20250217T183451Z
UID:22683-1739876400-1739878200@gcusd7.org
SUMMARY:Beef & Noodles or Pork Patty\, Salad\, Corn\, Fruit
DESCRIPTION:
URL:https://gcusd7.org/event/beef-noodles-or-pork-patty-salad-corn-fruit/
CATEGORIES:ES Menu
END:VEVENT
BEGIN:VEVENT
DTSTART;TZID=America/Chicago:20250218T073000
DTEND;TZID=America/Chicago:20250218T080000
DTSTAMP:20260421T192105
CREATED:20250129T161601Z
LAST-MODIFIED:20250217T183451Z
UID:22682-1739863800-1739865600@gcusd7.org
SUMMARY:Breakfast Pizza
DESCRIPTION:
URL:https://gcusd7.org/event/breakfast-pizza-17/
CATEGORIES:ES Menu
END:VEVENT
BEGIN:VEVENT
DTSTART;TZID=America/Chicago:20250217T080000
DTEND;TZID=America/Chicago:20250217T143000
DTSTAMP:20260421T192105
CREATED:20250129T161601Z
LAST-MODIFIED:20250217T183451Z
UID:22681-1739779200-1739802600@gcusd7.org
SUMMARY:No School   President's Day
DESCRIPTION:
URL:https://gcusd7.org/event/no-school-presidents-day/
CATEGORIES:ES Menu
END:VEVENT
BEGIN:VEVENT
DTSTART;TZID=America/Chicago:20250214T080000
DTEND;TZID=America/Chicago:20250214T140000
DTSTAMP:20260421T192105
CREATED:20250129T161601Z
LAST-MODIFIED:20250214T181728Z
UID:22680-1739520000-1739541600@gcusd7.org
SUMMARY:No School   SIP Day   No student attendance
DESCRIPTION:
URL:https://gcusd7.org/event/no-school-sip-day-no-student-attendance/
CATEGORIES:ES Menu
END:VEVENT
BEGIN:VEVENT
DTSTART;TZID=America/Chicago:20250213T110000
DTEND;TZID=America/Chicago:20250213T113000
DTSTAMP:20260421T192105
CREATED:20250129T161601Z
LAST-MODIFIED:20250212T180741Z
UID:22679-1739444400-1739446200@gcusd7.org
SUMMARY:Chicken Strips or Pepperoni Hot Pocket\, Salad\, Corn & Fruit
DESCRIPTION:
URL:https://gcusd7.org/event/chicken-strips-or-pepperoni-hot-pocket-salad-corn-fruit/
CATEGORIES:ES Menu
END:VEVENT
END:VCALENDAR