BEGIN:VCALENDAR
VERSION:2.0
PRODID:-//Gillespie CUSD #7 - ECPv6.15.20//NONSGML v1.0//EN
CALSCALE:GREGORIAN
METHOD:PUBLISH
X-WR-CALNAME:Gillespie CUSD #7
X-ORIGINAL-URL:https://gcusd7.org
X-WR-CALDESC:Events for Gillespie CUSD #7
REFRESH-INTERVAL;VALUE=DURATION:PT1H
X-Robots-Tag:noindex
X-PUBLISHED-TTL:PT1H
BEGIN:VTIMEZONE
TZID:America/Chicago
BEGIN:DAYLIGHT
TZOFFSETFROM:-0600
TZOFFSETTO:-0500
TZNAME:CDT
DTSTART:20240310T080000
END:DAYLIGHT
BEGIN:STANDARD
TZOFFSETFROM:-0500
TZOFFSETTO:-0600
TZNAME:CST
DTSTART:20241103T070000
END:STANDARD
BEGIN:DAYLIGHT
TZOFFSETFROM:-0600
TZOFFSETTO:-0500
TZNAME:CDT
DTSTART:20250309T080000
END:DAYLIGHT
BEGIN:STANDARD
TZOFFSETFROM:-0500
TZOFFSETTO:-0600
TZNAME:CST
DTSTART:20251102T070000
END:STANDARD
BEGIN:DAYLIGHT
TZOFFSETFROM:-0600
TZOFFSETTO:-0500
TZNAME:CDT
DTSTART:20260308T080000
END:DAYLIGHT
BEGIN:STANDARD
TZOFFSETFROM:-0500
TZOFFSETTO:-0600
TZNAME:CST
DTSTART:20261101T070000
END:STANDARD
END:VTIMEZONE
BEGIN:VEVENT
DTSTART;TZID=America/Chicago:20250413T103000
DTEND;TZID=America/Chicago:20250413T130000
DTSTAMP:20260421T114148
CREATED:20250402T082203Z
LAST-MODIFIED:20250413T094849Z
UID:23123-1744540200-1744549200@gcusd7.org
SUMMARY:Spaghetti Dinner (Pick Up)
DESCRIPTION:
URL:https://gcusd7.org/event/spaghetti-dinner-pick-up/
CATEGORIES:ES Menu
END:VEVENT
BEGIN:VEVENT
DTSTART;TZID=America/Chicago:20250411T110000
DTEND;TZID=America/Chicago:20250411T113000
DTSTAMP:20260421T114148
CREATED:20250402T082203Z
LAST-MODIFIED:20250411T094001Z
UID:23122-1744369200-1744371000@gcusd7.org
SUMMARY:Chili Mac or Hot Dog\, Salad\, Fruit\, Carrots w/ Ranch
DESCRIPTION:
URL:https://gcusd7.org/event/chili-mac-or-hot-dog-salad-fruit-carrots-w-ranch/
CATEGORIES:ES Menu
END:VEVENT
BEGIN:VEVENT
DTSTART;TZID=America/Chicago:20250411T073000
DTEND;TZID=America/Chicago:20250411T080000
DTSTAMP:20260421T114148
CREATED:20250402T082203Z
LAST-MODIFIED:20250411T094001Z
UID:23121-1744356600-1744358400@gcusd7.org
SUMMARY:Cheese Omelet
DESCRIPTION:
URL:https://gcusd7.org/event/cheese-omelet-12/
CATEGORIES:ES Menu
END:VEVENT
BEGIN:VEVENT
DTSTART;TZID=America/Chicago:20250410T110000
DTEND;TZID=America/Chicago:20250410T113000
DTSTAMP:20260421T114148
CREATED:20250402T082202Z
LAST-MODIFIED:20250410T092626Z
UID:23120-1744282800-1744284600@gcusd7.org
SUMMARY:Cheesy Mexican Rice w/Chicken or Pork Patty\, Salad\, Fruit
DESCRIPTION:
URL:https://gcusd7.org/event/cheesy-mexican-rice-w-chicken-or-pork-patty-salad-fruit/
CATEGORIES:ES Menu
END:VEVENT
BEGIN:VEVENT
DTSTART;TZID=America/Chicago:20250410T073000
DTEND;TZID=America/Chicago:20250410T080000
DTSTAMP:20260421T114148
CREATED:20250402T082202Z
LAST-MODIFIED:20250410T092626Z
UID:23119-1744270200-1744272000@gcusd7.org
SUMMARY:Pancakes
DESCRIPTION:
URL:https://gcusd7.org/event/pancakes-5/
CATEGORIES:ES Menu
END:VEVENT
BEGIN:VEVENT
DTSTART;TZID=America/Chicago:20250409T110000
DTEND;TZID=America/Chicago:20250409T113000
DTSTAMP:20260421T114148
CREATED:20250402T082202Z
LAST-MODIFIED:20250409T091726Z
UID:23118-1744196400-1744198200@gcusd7.org
SUMMARY:Chili or PB and J sandwich\, Cheese\, Crackers\, Carrots w/ Ranch\, Fruit
DESCRIPTION:
URL:https://gcusd7.org/event/chili-or-pb-and-j-sandwich-cheese-crackers-carrots-w-ranch-fruit/
CATEGORIES:ES Menu
END:VEVENT
BEGIN:VEVENT
DTSTART;TZID=America/Chicago:20250409T073000
DTEND;TZID=America/Chicago:20250409T080000
DTSTAMP:20260421T114148
CREATED:20250402T082202Z
LAST-MODIFIED:20250409T091726Z
UID:23117-1744183800-1744185600@gcusd7.org
SUMMARY:Pop Tarts
DESCRIPTION:
URL:https://gcusd7.org/event/pop-tarts-24/
CATEGORIES:ES Menu
END:VEVENT
BEGIN:VEVENT
DTSTART;TZID=America/Chicago:20250409T060000
DTEND;TZID=America/Chicago:20250409T063000
DTSTAMP:20260421T114148
CREATED:20250402T082202Z
LAST-MODIFIED:20250409T091725Z
UID:23116-1744178400-1744180200@gcusd7.org
SUMMARY:Bake Sale
DESCRIPTION:
URL:https://gcusd7.org/event/bake-sale-3/
CATEGORIES:ES Menu
END:VEVENT
BEGIN:VEVENT
DTSTART;TZID=America/Chicago:20250408T110000
DTEND;TZID=America/Chicago:20250408T113000
DTSTAMP:20260421T114148
CREATED:20250402T082148Z
LAST-MODIFIED:20250408T090553Z
UID:23115-1744110000-1744111800@gcusd7.org
SUMMARY:Ham & Cheese Wrap or Fish\, Tater Tots\, Salad\, Fruit
DESCRIPTION:
URL:https://gcusd7.org/event/ham-cheese-wrap-or-fish-tater-tots-salad-fruit/
CATEGORIES:ES Menu
END:VEVENT
BEGIN:VEVENT
DTSTART;TZID=America/Chicago:20250408T073000
DTEND;TZID=America/Chicago:20250408T080000
DTSTAMP:20260421T114148
CREATED:20250402T082148Z
LAST-MODIFIED:20250408T090553Z
UID:23114-1744097400-1744099200@gcusd7.org
SUMMARY:Sausage\, Egg\, Cheese Burrito
DESCRIPTION:
URL:https://gcusd7.org/event/sausage-egg-cheese-burrito-4/
CATEGORIES:ES Menu
END:VEVENT
BEGIN:VEVENT
DTSTART;TZID=America/Chicago:20250407T110000
DTEND;TZID=America/Chicago:20250407T113000
DTSTAMP:20260421T114148
CREATED:20250402T082148Z
LAST-MODIFIED:20250407T085545Z
UID:23113-1744023600-1744025400@gcusd7.org
SUMMARY:Meatballs or Toasted Raviolis\, Garlic Bread\, Fruit & Salad
DESCRIPTION:
URL:https://gcusd7.org/event/meatballs-or-toasted-raviolis-garlic-bread-fruit-salad/
CATEGORIES:ES Menu
END:VEVENT
BEGIN:VEVENT
DTSTART;TZID=America/Chicago:20250407T073000
DTEND;TZID=America/Chicago:20250407T080000
DTSTAMP:20260421T114148
CREATED:20250402T082148Z
LAST-MODIFIED:20250407T085545Z
UID:23112-1744011000-1744012800@gcusd7.org
SUMMARY:Yogurt
DESCRIPTION:
URL:https://gcusd7.org/event/yogurt-65/
CATEGORIES:ES Menu
END:VEVENT
BEGIN:VEVENT
DTSTART;TZID=America/Chicago:20250404T110000
DTEND;TZID=America/Chicago:20250404T113000
DTSTAMP:20260421T114148
CREATED:20250402T082148Z
LAST-MODIFIED:20250404T083023Z
UID:23111-1743764400-1743766200@gcusd7.org
SUMMARY:Cheese Tort Soup or Corn Dogs\, Salad\, Carrots\, & Fruit
DESCRIPTION:
URL:https://gcusd7.org/event/cheese-tort-soup-or-corn-dogs-salad-carrots-fruit/
CATEGORIES:ES Menu
END:VEVENT
BEGIN:VEVENT
DTSTART;TZID=America/Chicago:20250404T073000
DTEND;TZID=America/Chicago:20250404T080000
DTSTAMP:20260421T114148
CREATED:20250402T082148Z
LAST-MODIFIED:20250404T083022Z
UID:23110-1743751800-1743753600@gcusd7.org
SUMMARY:Apple Turnovers
DESCRIPTION:
URL:https://gcusd7.org/event/apple-turnovers/
CATEGORIES:ES Menu
END:VEVENT
BEGIN:VEVENT
DTSTART;TZID=America/Chicago:20250403T110000
DTEND;TZID=America/Chicago:20250403T113000
DTSTAMP:20260421T114148
CREATED:20250402T082147Z
LAST-MODIFIED:20250403T082835Z
UID:23109-1743678000-1743679800@gcusd7.org
SUMMARY:Cheddar Brats/Bun or Pepperoni French Bread\, Salad\, Baked Beans\, & Fruit
DESCRIPTION:
URL:https://gcusd7.org/event/cheddar-brats-bun-or-pepperoni-french-bread-salad-baked-beans-fruit/
CATEGORIES:ES Menu
END:VEVENT
BEGIN:VEVENT
DTSTART;TZID=America/Chicago:20250403T073000
DTEND;TZID=America/Chicago:20250403T080000
DTSTAMP:20260421T114148
CREATED:20250402T082147Z
LAST-MODIFIED:20250403T082835Z
UID:23108-1743665400-1743667200@gcusd7.org
SUMMARY:Sausage Biscuit
DESCRIPTION:
URL:https://gcusd7.org/event/sausage-biscuit/
CATEGORIES:ES Menu
END:VEVENT
BEGIN:VEVENT
DTSTART;TZID=America/Chicago:20250402T110000
DTEND;TZID=America/Chicago:20250402T113000
DTSTAMP:20260421T114148
CREATED:20250402T082147Z
LAST-MODIFIED:20250402T082229Z
UID:23107-1743591600-1743593400@gcusd7.org
SUMMARY:Spaghetti or Chicken Patty\, Salad\, Fruit\, Garlic Bread
DESCRIPTION:
URL:https://gcusd7.org/event/spaghetti-or-chicken-patty-salad-fruit-garlic-bread/
CATEGORIES:ES Menu
END:VEVENT
BEGIN:VEVENT
DTSTART;TZID=America/Chicago:20250402T073000
DTEND;TZID=America/Chicago:20250402T080000
DTSTAMP:20260421T114148
CREATED:20250402T082147Z
LAST-MODIFIED:20250402T082229Z
UID:23106-1743579000-1743580800@gcusd7.org
SUMMARY:Bacon
DESCRIPTION:
URL:https://gcusd7.org/event/bacon-2/
CATEGORIES:ES Menu
END:VEVENT
BEGIN:VEVENT
DTSTART;TZID=America/Chicago:20250331T110000
DTEND;TZID=America/Chicago:20250331T113000
DTSTAMP:20260421T114148
CREATED:20250224T193710Z
LAST-MODIFIED:20250330T235436Z
UID:22882-1743418800-1743420600@gcusd7.org
SUMMARY:Chicken Noodle Soup or Ham & Cheese Croissant\, Carrots & Fruit
DESCRIPTION:
URL:https://gcusd7.org/event/chicken-noodle-soup-or-ham-cheese-croissant-carrots-fruit/
CATEGORIES:ES Menu
END:VEVENT
BEGIN:VEVENT
DTSTART;TZID=America/Chicago:20250331T073000
DTEND;TZID=America/Chicago:20250331T080000
DTSTAMP:20260421T114148
CREATED:20250224T193710Z
LAST-MODIFIED:20250330T235436Z
UID:22881-1743406200-1743408000@gcusd7.org
SUMMARY:Breakfast Burrito
DESCRIPTION:
URL:https://gcusd7.org/event/breakfast-burrito-7/
CATEGORIES:ES Menu
END:VEVENT
BEGIN:VEVENT
DTSTART;TZID=America/Chicago:20250328T080000
DTEND;TZID=America/Chicago:20250328T083000
DTSTAMP:20260421T114148
CREATED:20250224T193710Z
LAST-MODIFIED:20250327T233005Z
UID:22880-1743148800-1743150600@gcusd7.org
SUMMARY:No School for Students--Teacher Workday
DESCRIPTION:
URL:https://gcusd7.org/event/no-school-for-students-teacher-workday/
CATEGORIES:ES Menu
END:VEVENT
BEGIN:VEVENT
DTSTART;TZID=America/Chicago:20250327T110000
DTEND;TZID=America/Chicago:20250327T113000
DTSTAMP:20260421T114148
CREATED:20250224T193710Z
LAST-MODIFIED:20250326T232353Z
UID:22879-1743073200-1743075000@gcusd7.org
SUMMARY:Torts in Alfredo Sauce or Grilled Chicken\, Salad\, Garlic Toast\, Fruit
DESCRIPTION:
URL:https://gcusd7.org/event/torts-in-alfredo-sauce-or-grilled-chicken-salad-garlic-toast-fruit/
CATEGORIES:ES Menu
END:VEVENT
BEGIN:VEVENT
DTSTART;TZID=America/Chicago:20250327T073000
DTEND;TZID=America/Chicago:20250327T083000
DTSTAMP:20260421T114148
CREATED:20250224T193709Z
LAST-MODIFIED:20250326T232353Z
UID:22878-1743060600-1743064200@gcusd7.org
SUMMARY:Cinnamon Roll
DESCRIPTION:
URL:https://gcusd7.org/event/cinnamon-roll-17/
CATEGORIES:ES Menu
END:VEVENT
BEGIN:VEVENT
DTSTART;TZID=America/Chicago:20250326T110000
DTEND;TZID=America/Chicago:20250326T113000
DTSTAMP:20260421T114148
CREATED:20250224T193709Z
LAST-MODIFIED:20250325T231718Z
UID:22877-1742986800-1742988600@gcusd7.org
SUMMARY:Hot Dogs/Bun or Ham & Cheese Hot Pockets\, Salad\, Chips\, Fruit
DESCRIPTION:
URL:https://gcusd7.org/event/hot-dogs-bun-or-ham-cheese-hot-pockets-salad-chips-fruit/
CATEGORIES:ES Menu
END:VEVENT
BEGIN:VEVENT
DTSTART;TZID=America/Chicago:20250326T073000
DTEND;TZID=America/Chicago:20250326T080000
DTSTAMP:20260421T114148
CREATED:20250224T193709Z
LAST-MODIFIED:20250325T231718Z
UID:22876-1742974200-1742976000@gcusd7.org
SUMMARY:Sausage Patty Biscuit
DESCRIPTION:
URL:https://gcusd7.org/event/sausage-patty-biscuit/
CATEGORIES:ES Menu
END:VEVENT
BEGIN:VEVENT
DTSTART;TZID=America/Chicago:20250325T110000
DTEND;TZID=America/Chicago:20250325T113000
DTSTAMP:20260421T114148
CREATED:20250224T193709Z
LAST-MODIFIED:20250324T230642Z
UID:22875-1742900400-1742902200@gcusd7.org
SUMMARY:Taco Meat w/ Scoops or Chicken Enchilada\, Shredded Lettuce\, Sour Cream\, Fruit\, Cheese Salsa
DESCRIPTION:
URL:https://gcusd7.org/event/taco-meat-w-scoops-or-chicken-enchilada-shredded-lettuce-sour-cream-fruit-cheese-salsa/
CATEGORIES:ES Menu
END:VEVENT
BEGIN:VEVENT
DTSTART;TZID=America/Chicago:20250325T073000
DTEND;TZID=America/Chicago:20250325T080000
DTSTAMP:20260421T114148
CREATED:20250224T193709Z
LAST-MODIFIED:20250324T230642Z
UID:22874-1742887800-1742889600@gcusd7.org
SUMMARY:Scrambled Eggs
DESCRIPTION:
URL:https://gcusd7.org/event/scrambled-eggs-2/
CATEGORIES:ES Menu
END:VEVENT
BEGIN:VEVENT
DTSTART;TZID=America/Chicago:20250324T110000
DTEND;TZID=America/Chicago:20250324T113000
DTSTAMP:20260421T114148
CREATED:20250224T193657Z
LAST-MODIFIED:20250323T225247Z
UID:22873-1742814000-1742815800@gcusd7.org
SUMMARY:Chicken Sliders or Italian Wrap\, Salad\, Tater Tots\, Fruit
DESCRIPTION:
URL:https://gcusd7.org/event/chicken-sliders-or-italian-wrap-salad-tater-tots-fruit/
CATEGORIES:ES Menu
END:VEVENT
BEGIN:VEVENT
DTSTART;TZID=America/Chicago:20250324T073000
DTEND;TZID=America/Chicago:20250324T083000
DTSTAMP:20260421T114148
CREATED:20250224T193657Z
LAST-MODIFIED:20250323T225247Z
UID:22872-1742801400-1742805000@gcusd7.org
SUMMARY:Mini French Toast
DESCRIPTION:
URL:https://gcusd7.org/event/mini-french-toast-5/
CATEGORIES:ES Menu
END:VEVENT
BEGIN:VEVENT
DTSTART;TZID=America/Chicago:20250321T110000
DTEND;TZID=America/Chicago:20250321T113000
DTSTAMP:20260421T114148
CREATED:20250224T193657Z
LAST-MODIFIED:20250320T223122Z
UID:22871-1742554800-1742556600@gcusd7.org
SUMMARY:Broccoli & Cheddar Soup or Toasted Cheese Sandwick\, Salad\, Fruit
DESCRIPTION:
URL:https://gcusd7.org/event/broccoli-cheddar-soup-or-toasted-cheese-sandwick-salad-fruit/
CATEGORIES:ES Menu
END:VEVENT
END:VCALENDAR