BEGIN:VCALENDAR
VERSION:2.0
PRODID:-//Gillespie CUSD #7 - ECPv6.15.20//NONSGML v1.0//EN
CALSCALE:GREGORIAN
METHOD:PUBLISH
X-WR-CALNAME:Gillespie CUSD #7
X-ORIGINAL-URL:https://gcusd7.org
X-WR-CALDESC:Events for Gillespie CUSD #7
REFRESH-INTERVAL;VALUE=DURATION:PT1H
X-Robots-Tag:noindex
X-PUBLISHED-TTL:PT1H
BEGIN:VTIMEZONE
TZID:America/Chicago
BEGIN:DAYLIGHT
TZOFFSETFROM:-0600
TZOFFSETTO:-0500
TZNAME:CDT
DTSTART:20240310T080000
END:DAYLIGHT
BEGIN:STANDARD
TZOFFSETFROM:-0500
TZOFFSETTO:-0600
TZNAME:CST
DTSTART:20241103T070000
END:STANDARD
BEGIN:DAYLIGHT
TZOFFSETFROM:-0600
TZOFFSETTO:-0500
TZNAME:CDT
DTSTART:20250309T080000
END:DAYLIGHT
BEGIN:STANDARD
TZOFFSETFROM:-0500
TZOFFSETTO:-0600
TZNAME:CST
DTSTART:20251102T070000
END:STANDARD
BEGIN:DAYLIGHT
TZOFFSETFROM:-0600
TZOFFSETTO:-0500
TZNAME:CDT
DTSTART:20260308T080000
END:DAYLIGHT
BEGIN:STANDARD
TZOFFSETFROM:-0500
TZOFFSETTO:-0600
TZNAME:CST
DTSTART:20261101T070000
END:STANDARD
END:VTIMEZONE
BEGIN:VEVENT
DTSTART;TZID=America/Chicago:20250822T110000
DTEND;TZID=America/Chicago:20250822T113000
DTSTAMP:20260421T100041
CREATED:20250730T105548Z
LAST-MODIFIED:20250821T191612Z
UID:23869-1755860400-1755862200@gcusd7.org
SUMMARY:Crispitos\, Shred Lettuce & Cheese\, Salsa\, Refried Beans\, Fruit
DESCRIPTION:
URL:https://gcusd7.org/event/crispitos-shred-lettuce-cheese-salsa-refried-beans-fruit/
CATEGORIES:ES Menu
END:VEVENT
BEGIN:VEVENT
DTSTART;TZID=America/Chicago:20250822T073000
DTEND;TZID=America/Chicago:20250822T080000
DTSTAMP:20260421T100041
CREATED:20250730T105548Z
LAST-MODIFIED:20250821T191612Z
UID:23868-1755847800-1755849600@gcusd7.org
SUMMARY:Waffle Sticks
DESCRIPTION:
URL:https://gcusd7.org/event/waffle-sticks/
CATEGORIES:ES Menu
END:VEVENT
BEGIN:VEVENT
DTSTART;TZID=America/Chicago:20250821T110000
DTEND;TZID=America/Chicago:20250821T113000
DTSTAMP:20260421T100041
CREATED:20250730T105548Z
LAST-MODIFIED:20250819T135232Z
UID:23867-1755774000-1755775800@gcusd7.org
SUMMARY:Salisbury Steak\, Mashed Potatoes\, Roll\, Salad\, Fruit
DESCRIPTION:
URL:https://gcusd7.org/event/salisbury-steak-mashed-potatoes-roll-salad-fruit/
CATEGORIES:ES Menu
END:VEVENT
BEGIN:VEVENT
DTSTART;TZID=America/Chicago:20250821T073000
DTEND;TZID=America/Chicago:20250821T080000
DTSTAMP:20260421T100041
CREATED:20250730T105548Z
LAST-MODIFIED:20250819T135232Z
UID:23866-1755761400-1755763200@gcusd7.org
SUMMARY:Scramble Eggs
DESCRIPTION:
URL:https://gcusd7.org/event/scramble-eggs-2/
CATEGORIES:ES Menu
END:VEVENT
BEGIN:VEVENT
DTSTART;TZID=America/Chicago:20250820T110000
DTEND;TZID=America/Chicago:20250820T113000
DTSTAMP:20260421T100041
CREATED:20250730T105548Z
LAST-MODIFIED:20250819T135231Z
UID:23865-1755687600-1755689400@gcusd7.org
SUMMARY:Hot Dogs/Buns\, Tater Tots\, Salad\, Fruit
DESCRIPTION:
URL:https://gcusd7.org/event/hot-dogs-buns-tater-tots-salad-fruit/
CATEGORIES:ES Menu
END:VEVENT
BEGIN:VEVENT
DTSTART;TZID=America/Chicago:20250820T073000
DTEND;TZID=America/Chicago:20250820T080000
DTSTAMP:20260421T100041
CREATED:20250730T105548Z
LAST-MODIFIED:20250819T135231Z
UID:23864-1755675000-1755676800@gcusd7.org
SUMMARY:Sausage Patties
DESCRIPTION:
URL:https://gcusd7.org/event/sausage-patties-8/
CATEGORIES:ES Menu
END:VEVENT
BEGIN:VEVENT
DTSTART;TZID=America/Chicago:20250819T110000
DTEND;TZID=America/Chicago:20250819T113000
DTSTAMP:20260421T100041
CREATED:20250730T105530Z
LAST-MODIFIED:20250819T135231Z
UID:23863-1755601200-1755603000@gcusd7.org
SUMMARY:Toasted Cheese\, Salad\, Green Beans\, & Fruit
DESCRIPTION:
URL:https://gcusd7.org/event/toasted-cheese-salad-green-beans-fruit/
CATEGORIES:ES Menu
END:VEVENT
BEGIN:VEVENT
DTSTART;TZID=America/Chicago:20250819T073000
DTEND;TZID=America/Chicago:20250819T080000
DTSTAMP:20260421T100041
CREATED:20250730T105530Z
LAST-MODIFIED:20250818T135417Z
UID:23862-1755588600-1755590400@gcusd7.org
SUMMARY:Confetti Pancakes
DESCRIPTION:
URL:https://gcusd7.org/event/confetti-pancakes-18/
CATEGORIES:ES Menu
END:VEVENT
BEGIN:VEVENT
DTSTART;TZID=America/Chicago:20250818T110000
DTEND;TZID=America/Chicago:20250818T113000
DTSTAMP:20260421T100041
CREATED:20250730T105530Z
LAST-MODIFIED:20250818T135417Z
UID:23861-1755514800-1755516600@gcusd7.org
SUMMARY:Pork Patty\, Salad\, Baby Carrots\, Ranch Dip\, & Fruit
DESCRIPTION:
URL:https://gcusd7.org/event/pork-patty-salad-baby-carrots-ranch-dip-fruit/
CATEGORIES:ES Menu
END:VEVENT
BEGIN:VEVENT
DTSTART;TZID=America/Chicago:20250818T073000
DTEND;TZID=America/Chicago:20250818T080000
DTSTAMP:20260421T100041
CREATED:20250730T105530Z
LAST-MODIFIED:20250817T134137Z
UID:23860-1755502200-1755504000@gcusd7.org
SUMMARY:Apple Frudel
DESCRIPTION:
URL:https://gcusd7.org/event/apple-frudel-13/
CATEGORIES:ES Menu
END:VEVENT
BEGIN:VEVENT
DTSTART;TZID=America/Chicago:20250815T110000
DTEND;TZID=America/Chicago:20250815T113000
DTSTAMP:20260421T100041
CREATED:20250730T105530Z
LAST-MODIFIED:20250815T132754Z
UID:23859-1755255600-1755257400@gcusd7.org
SUMMARY:Sausage Pizza\, Salad\, Green Beans\, Fruit
DESCRIPTION:
URL:https://gcusd7.org/event/sausage-pizza-salad-green-beans-fruit/
CATEGORIES:ES Menu
END:VEVENT
BEGIN:VEVENT
DTSTART;TZID=America/Chicago:20250815T073000
DTEND;TZID=America/Chicago:20250815T080000
DTSTAMP:20260421T100041
CREATED:20250730T105530Z
LAST-MODIFIED:20250814T131358Z
UID:23858-1755243000-1755244800@gcusd7.org
SUMMARY:Cinnamon Rolls
DESCRIPTION:
URL:https://gcusd7.org/event/cinnamon-rolls/
CATEGORIES:ES Menu
END:VEVENT
BEGIN:VEVENT
DTSTART;TZID=America/Chicago:20250814T110000
DTEND;TZID=America/Chicago:20250814T113000
DTSTAMP:20260421T100041
CREATED:20250730T105530Z
LAST-MODIFIED:20250814T131358Z
UID:23857-1755169200-1755171000@gcusd7.org
SUMMARY:Chicken Noodle Soup\, Salad\, Roll\, Fruit
DESCRIPTION:
URL:https://gcusd7.org/event/chicken-noodle-soup-salad-roll-fruit/
CATEGORIES:ES Menu
END:VEVENT
BEGIN:VEVENT
DTSTART;TZID=America/Chicago:20250814T073000
DTEND;TZID=America/Chicago:20250814T080000
DTSTAMP:20260421T100041
CREATED:20250730T105530Z
LAST-MODIFIED:20250813T130303Z
UID:23856-1755156600-1755158400@gcusd7.org
SUMMARY:Cheese Omelet
DESCRIPTION:
URL:https://gcusd7.org/event/cheese-omelet-14/
CATEGORIES:ES Menu
END:VEVENT
BEGIN:VEVENT
DTSTART;TZID=America/Chicago:20250813T110000
DTEND;TZID=America/Chicago:20250813T113000
DTSTAMP:20260421T100041
CREATED:20250730T105530Z
LAST-MODIFIED:20250813T130303Z
UID:23855-1755082800-1755084600@gcusd7.org
SUMMARY:Mini Corndogs\, Salad\, Corn & Fruit
DESCRIPTION:
URL:https://gcusd7.org/event/mini-corndogs-salad-corn-fruit/
CATEGORIES:ES Menu
END:VEVENT
BEGIN:VEVENT
DTSTART;TZID=America/Chicago:20250813T073000
DTEND;TZID=America/Chicago:20250813T080000
DTSTAMP:20260421T100041
CREATED:20250730T105530Z
LAST-MODIFIED:20250812T124755Z
UID:23854-1755070200-1755072000@gcusd7.org
SUMMARY:Sausage Pancake Sandwich
DESCRIPTION:
URL:https://gcusd7.org/event/sausage-pancake-sandwich-2/
CATEGORIES:ES Menu
END:VEVENT
BEGIN:VEVENT
DTSTART;TZID=America/Chicago:20250523T130000
DTEND;TZID=America/Chicago:20250523T133000
DTSTAMP:20260421T100041
CREATED:20250425T110523Z
LAST-MODIFIED:20250511T130055Z
UID:23286-1748005200-1748007000@gcusd7.org
SUMMARY:1:45PM Dismissal--Last Day for Students   Play Day
DESCRIPTION:
URL:https://gcusd7.org/event/145pm-dismissal-last-day-for-students-play-day/
CATEGORIES:ES Menu
END:VEVENT
BEGIN:VEVENT
DTSTART;TZID=America/Chicago:20250523T090000
DTEND;TZID=America/Chicago:20250523T093000
DTSTAMP:20260421T100041
CREATED:20250425T110510Z
LAST-MODIFIED:20250511T130055Z
UID:23285-1747990800-1747992600@gcusd7.org
SUMMARY:Cook's Choice
DESCRIPTION:
URL:https://gcusd7.org/event/cooks-choice-17/
CATEGORIES:ES Menu
END:VEVENT
BEGIN:VEVENT
DTSTART;TZID=America/Chicago:20250522T090000
DTEND;TZID=America/Chicago:20250522T093000
DTSTAMP:20260421T100041
CREATED:20250425T110510Z
LAST-MODIFIED:20250511T130055Z
UID:23284-1747904400-1747906200@gcusd7.org
SUMMARY:Cook's Choice
DESCRIPTION:
URL:https://gcusd7.org/event/cooks-choice-16/
CATEGORIES:ES Menu
END:VEVENT
BEGIN:VEVENT
DTSTART;TZID=America/Chicago:20250521T090000
DTEND;TZID=America/Chicago:20250521T093000
DTSTAMP:20260421T100041
CREATED:20250425T110510Z
LAST-MODIFIED:20250511T130055Z
UID:23283-1747818000-1747819800@gcusd7.org
SUMMARY:Cook's Choice
DESCRIPTION:
URL:https://gcusd7.org/event/cooks-choice-15/
CATEGORIES:ES Menu
END:VEVENT
BEGIN:VEVENT
DTSTART;TZID=America/Chicago:20250520T090000
DTEND;TZID=America/Chicago:20250520T093000
DTSTAMP:20260421T100041
CREATED:20250425T110510Z
LAST-MODIFIED:20250511T130055Z
UID:23282-1747731600-1747733400@gcusd7.org
SUMMARY:Cook's Choice
DESCRIPTION:
URL:https://gcusd7.org/event/cooks-choice-14/
CATEGORIES:ES Menu
END:VEVENT
BEGIN:VEVENT
DTSTART;TZID=America/Chicago:20250519T090000
DTEND;TZID=America/Chicago:20250519T093000
DTSTAMP:20260421T100041
CREATED:20250425T110509Z
LAST-MODIFIED:20250511T130055Z
UID:23281-1747645200-1747647000@gcusd7.org
SUMMARY:Cook's Choice
DESCRIPTION:
URL:https://gcusd7.org/event/cooks-choice-13/
CATEGORIES:ES Menu
END:VEVENT
BEGIN:VEVENT
DTSTART;TZID=America/Chicago:20250516T110000
DTEND;TZID=America/Chicago:20250516T113000
DTSTAMP:20260421T100041
CREATED:20250425T110509Z
LAST-MODIFIED:20250511T130055Z
UID:23280-1747393200-1747395000@gcusd7.org
SUMMARY:Pizza Crunchers or Fish\, Salad\, Green Beans\, & Fruit
DESCRIPTION:
URL:https://gcusd7.org/event/pizza-crunchers-or-fish-salad-green-beans-fruit/
CATEGORIES:ES Menu
END:VEVENT
BEGIN:VEVENT
DTSTART;TZID=America/Chicago:20250516T070000
DTEND;TZID=America/Chicago:20250516T073000
DTSTAMP:20260421T100041
CREATED:20250425T110508Z
LAST-MODIFIED:20250511T130055Z
UID:23279-1747378800-1747380600@gcusd7.org
SUMMARY:Pop Tarts
DESCRIPTION:
URL:https://gcusd7.org/event/pop-tarts-25/
CATEGORIES:ES Menu
END:VEVENT
BEGIN:VEVENT
DTSTART;TZID=America/Chicago:20250515T110000
DTEND;TZID=America/Chicago:20250515T113000
DTSTAMP:20260421T100041
CREATED:20250425T110508Z
LAST-MODIFIED:20250511T130055Z
UID:23278-1747306800-1747308600@gcusd7.org
SUMMARY:Salisbury Steak or Pork Patty\, Mashed Potatoes\, & Fruit
DESCRIPTION:
URL:https://gcusd7.org/event/salisbury-steak-or-pork-patty-mashed-potatoes-fruit/
CATEGORIES:ES Menu
END:VEVENT
BEGIN:VEVENT
DTSTART;TZID=America/Chicago:20250515T070000
DTEND;TZID=America/Chicago:20250515T073000
DTSTAMP:20260421T100041
CREATED:20250425T110507Z
LAST-MODIFIED:20250511T130055Z
UID:23277-1747292400-1747294200@gcusd7.org
SUMMARY:Apple Frudel
DESCRIPTION:
URL:https://gcusd7.org/event/apple-frudel-12/
CATEGORIES:ES Menu
END:VEVENT
BEGIN:VEVENT
DTSTART;TZID=America/Chicago:20250514T110000
DTEND;TZID=America/Chicago:20250514T113000
DTSTAMP:20260421T100041
CREATED:20250425T110507Z
LAST-MODIFIED:20250511T130055Z
UID:23276-1747220400-1747222200@gcusd7.org
SUMMARY:Mini Corn Dogs or Chicken Strips\, Salad\, Corn\, & Fruit
DESCRIPTION:
URL:https://gcusd7.org/event/mini-corn-dogs-or-chicken-strips-salad-corn-fruit/
CATEGORIES:ES Menu
END:VEVENT
BEGIN:VEVENT
DTSTART;TZID=America/Chicago:20250514T070000
DTEND;TZID=America/Chicago:20250514T073000
DTSTAMP:20260421T100041
CREATED:20250425T110455Z
LAST-MODIFIED:20250511T130055Z
UID:23275-1747206000-1747207800@gcusd7.org
SUMMARY:Pancake on a Stick
DESCRIPTION:
URL:https://gcusd7.org/event/pancake-on-a-stick-7/
CATEGORIES:ES Menu
END:VEVENT
BEGIN:VEVENT
DTSTART;TZID=America/Chicago:20250513T110000
DTEND;TZID=America/Chicago:20250513T113000
DTSTAMP:20260421T100041
CREATED:20250425T110455Z
LAST-MODIFIED:20250511T130055Z
UID:23274-1747134000-1747135800@gcusd7.org
SUMMARY:Ham & Cheese Hot Pocket or Pepperoni Hot Pocket\, Salad\, Carrots\, & Fruit
DESCRIPTION:
URL:https://gcusd7.org/event/ham-cheese-hot-pocket-or-pepperoni-hot-pocket-salad-carrots-fruit/
CATEGORIES:ES Menu
END:VEVENT
BEGIN:VEVENT
DTSTART;TZID=America/Chicago:20250513T070000
DTEND;TZID=America/Chicago:20250513T073000
DTSTAMP:20260421T100041
CREATED:20250425T110454Z
LAST-MODIFIED:20250511T130055Z
UID:23273-1747119600-1747121400@gcusd7.org
SUMMARY:Breakfast Burrito
DESCRIPTION:
URL:https://gcusd7.org/event/breakfast-burrito-8/
CATEGORIES:ES Menu
END:VEVENT
END:VCALENDAR