BEGIN:VCALENDAR
VERSION:2.0
PRODID:-//Gillespie CUSD #7 - ECPv6.15.20//NONSGML v1.0//EN
CALSCALE:GREGORIAN
METHOD:PUBLISH
X-WR-CALNAME:Gillespie CUSD #7
X-ORIGINAL-URL:https://gcusd7.org
X-WR-CALDESC:Events for Gillespie CUSD #7
REFRESH-INTERVAL;VALUE=DURATION:PT1H
X-Robots-Tag:noindex
X-PUBLISHED-TTL:PT1H
BEGIN:VTIMEZONE
TZID:America/Chicago
BEGIN:DAYLIGHT
TZOFFSETFROM:-0600
TZOFFSETTO:-0500
TZNAME:CDT
DTSTART:20240310T080000
END:DAYLIGHT
BEGIN:STANDARD
TZOFFSETFROM:-0500
TZOFFSETTO:-0600
TZNAME:CST
DTSTART:20241103T070000
END:STANDARD
BEGIN:DAYLIGHT
TZOFFSETFROM:-0600
TZOFFSETTO:-0500
TZNAME:CDT
DTSTART:20250309T080000
END:DAYLIGHT
BEGIN:STANDARD
TZOFFSETFROM:-0500
TZOFFSETTO:-0600
TZNAME:CST
DTSTART:20251102T070000
END:STANDARD
BEGIN:DAYLIGHT
TZOFFSETFROM:-0600
TZOFFSETTO:-0500
TZNAME:CDT
DTSTART:20260308T080000
END:DAYLIGHT
BEGIN:STANDARD
TZOFFSETFROM:-0500
TZOFFSETTO:-0600
TZNAME:CST
DTSTART:20261101T070000
END:STANDARD
BEGIN:DAYLIGHT
TZOFFSETFROM:-0600
TZOFFSETTO:-0500
TZNAME:CDT
DTSTART:20270314T080000
END:DAYLIGHT
BEGIN:STANDARD
TZOFFSETFROM:-0500
TZOFFSETTO:-0600
TZNAME:CST
DTSTART:20271107T070000
END:STANDARD
END:VTIMEZONE
BEGIN:VTIMEZONE
TZID:America/New_York
BEGIN:DAYLIGHT
TZOFFSETFROM:-0500
TZOFFSETTO:-0400
TZNAME:EDT
DTSTART:20250309T070000
END:DAYLIGHT
BEGIN:STANDARD
TZOFFSETFROM:-0400
TZOFFSETTO:-0500
TZNAME:EST
DTSTART:20251102T060000
END:STANDARD
BEGIN:DAYLIGHT
TZOFFSETFROM:-0500
TZOFFSETTO:-0400
TZNAME:EDT
DTSTART:20260308T070000
END:DAYLIGHT
BEGIN:STANDARD
TZOFFSETFROM:-0400
TZOFFSETTO:-0500
TZNAME:EST
DTSTART:20261101T060000
END:STANDARD
BEGIN:DAYLIGHT
TZOFFSETFROM:-0500
TZOFFSETTO:-0400
TZNAME:EDT
DTSTART:20270314T070000
END:DAYLIGHT
BEGIN:STANDARD
TZOFFSETFROM:-0400
TZOFFSETTO:-0500
TZNAME:EST
DTSTART:20271107T060000
END:STANDARD
END:VTIMEZONE
BEGIN:VEVENT
DTSTART;TZID=America/Chicago:20260401T072000
DTEND;TZID=America/Chicago:20260401T074500
DTSTAMP:20260420T133954
CREATED:20250613T173724Z
LAST-MODIFIED:20260317T190019Z
UID:23540-1775028000-1775029500@gcusd7.org
SUMMARY:Grade-Level Teams Meet
DESCRIPTION:
URL:https://gcusd7.org/event/grade-level-teams-meet-31/
LOCATION:Classrooms
CATEGORIES:ES Menu
END:VEVENT
BEGIN:VEVENT
DTSTART;TZID=America/Chicago:20260325T072000
DTEND;TZID=America/Chicago:20260325T074500
DTSTAMP:20260420T133954
CREATED:20250613T173724Z
LAST-MODIFIED:20260317T190019Z
UID:23539-1774423200-1774424700@gcusd7.org
SUMMARY:Grade-Level Teams Meet
DESCRIPTION:
URL:https://gcusd7.org/event/grade-level-teams-meet-30/
LOCATION:Classrooms
CATEGORIES:ES Menu
END:VEVENT
BEGIN:VEVENT
DTSTART;TZID=America/Chicago:20260318T072000
DTEND;TZID=America/Chicago:20260318T074500
DTSTAMP:20260420T133954
CREATED:20250613T173724Z
LAST-MODIFIED:20260317T190018Z
UID:23538-1773818400-1773819900@gcusd7.org
SUMMARY:Grade-Level Teams Meet
DESCRIPTION:
URL:https://gcusd7.org/event/grade-level-teams-meet-29/
LOCATION:Classrooms
CATEGORIES:ES Menu
END:VEVENT
BEGIN:VEVENT
DTSTART;TZID=America/Chicago:20260311T072000
DTEND;TZID=America/Chicago:20260311T074500
DTSTAMP:20260420T133954
CREATED:20250613T173724Z
LAST-MODIFIED:20260310T172936Z
UID:23537-1773213600-1773215100@gcusd7.org
SUMMARY:Grade-Level Teams Meet
DESCRIPTION:
URL:https://gcusd7.org/event/grade-level-teams-meet-28/
LOCATION:Classrooms
CATEGORIES:ES Menu
END:VEVENT
BEGIN:VEVENT
DTSTART;TZID=America/Chicago:20260304T072000
DTEND;TZID=America/Chicago:20260304T074500
DTSTAMP:20260420T133954
CREATED:20250613T173724Z
LAST-MODIFIED:20260303T155421Z
UID:23536-1772608800-1772610300@gcusd7.org
SUMMARY:Grade-Level Teams Meet
DESCRIPTION:
URL:https://gcusd7.org/event/grade-level-teams-meet-27/
LOCATION:Classrooms
CATEGORIES:ES Menu
END:VEVENT
BEGIN:VEVENT
DTSTART;TZID=America/Chicago:20260225T072000
DTEND;TZID=America/Chicago:20260225T074500
DTSTAMP:20260420T133954
CREATED:20250613T173724Z
LAST-MODIFIED:20260224T143023Z
UID:23535-1772004000-1772005500@gcusd7.org
SUMMARY:Grade-Level Teams Meet
DESCRIPTION:
URL:https://gcusd7.org/event/grade-level-teams-meet-26/
LOCATION:Classrooms
CATEGORIES:ES Menu
END:VEVENT
BEGIN:VEVENT
DTSTART;TZID=America/Chicago:20260224T072000
DTEND;TZID=America/Chicago:20260224T075000
DTSTAMP:20260420T133954
CREATED:20251209T170142Z
LAST-MODIFIED:20260223T142920Z
UID:24473-1771917600-1771919400@gcusd7.org
SUMMARY:Staff Meeting
DESCRIPTION:
URL:https://gcusd7.org/event/staff-meeting-3/
LOCATION:BES Meeting Room
CATEGORIES:ES Menu
END:VEVENT
BEGIN:VEVENT
DTSTART;TZID=America/Chicago:20260218T072000
DTEND;TZID=America/Chicago:20260218T074500
DTSTAMP:20260420T133954
CREATED:20250613T173711Z
LAST-MODIFIED:20260218T132716Z
UID:23534-1771399200-1771400700@gcusd7.org
SUMMARY:Grade-Level Teams Meet
DESCRIPTION:
URL:https://gcusd7.org/event/grade-level-teams-meet-25/
LOCATION:Classrooms
CATEGORIES:ES Menu
END:VEVENT
BEGIN:VEVENT
DTSTART;VALUE=DATE:20260216
DTEND;VALUE=DATE:20260217
DTSTAMP:20260420T133954
CREATED:20251209T170142Z
LAST-MODIFIED:20260216T130907Z
UID:24472-1771200000-1771286399@gcusd7.org
SUMMARY:NO SCHOOL - Presidents' Day
DESCRIPTION:
URL:https://gcusd7.org/event/no-school-presidents-day-3/
CATEGORIES:ES Menu
END:VEVENT
BEGIN:VEVENT
DTSTART;TZID=America/New_York:20260213T083000
DTEND;TZID=America/New_York:20260213T093000
DTSTAMP:20260420T133954
CREATED:20260210T113843Z
LAST-MODIFIED:20260213T121501Z
UID:24699-1770971400-1770975000@gcusd7.org
SUMMARY:Meeting with CUSD 7
DESCRIPTION:Tara Cooper\nCUSD 7 Asst. Principal\n________________________________\nFrom: Jaiden Braundmeier  on behalf of Carl Kielbasa\nSent: Wednesday\, January 14\, 2026 1:33 PM\nTo: Tara Cooper ; Angela Sandretto\nSubject: FW: Meeting with CUSD 7\nWhen: Friday\, February 13\, 2026 7:30 AM-8:30 AM.\nWhere: Microsoft Teams Meeting\n—–Original Appointment—–\nFrom: Carl Kielbasa <ckielbasa@sadlier.com>\nSent: Tuesday\, January 13\, 2026 7:41 AM\nTo: Carl Kielbasa; Michael Brosseau; Jaiden Braundmeier\nSubject: Meeting with CUSD 7\nWhen: Friday\, February 13\, 2026 8:30 AM-9:30 AM (UTC-05:00) Eastern Time (US & Canada).\nWhere: Microsoft Teams Meeting\nSecurity Advisory\nYour security team has identified this email as EXTERNAL for the following reasons:\nPlease use extra caution when responding to\, opening links or attachments in this email. Any links in the email body may have been disabled or rewritten for security reasons.\nSetting meeting for 7:30 am\, Central Standard Time.\nLooking forward to meeting you!!\nThanks\,\nMichael Brosseau\nCarl Kielbasa\n________________________________________________________________________________\nMicrosoft Teams Need help?\nJoin the meeting now\nMeeting ID: 255 130 177 024 2\nPasscode: W4UZ7uE3\n________________________________\nFor organizers: Meeting options\n________________________________________________________________________________\nCAUTION: This email originated from outside of the organization. Do not click links or open attachments unless you recognize the sender and know the content is safe.\nCAUTION: This email originated from outside of the organization. Do not click links or open attachments unless you recognize the sender and know the content is safe.\nCAUTION: This email originated from outside of the organization. Do not click links or open attachments unless you recognize the sender and know the content is safe.
URL:https://gcusd7.org/event/meeting-with-cusd-7/
LOCATION:Microsoft Teams Meeting
CATEGORIES:ES Menu
END:VEVENT
BEGIN:VEVENT
DTSTART;VALUE=DATE:20260213
DTEND;VALUE=DATE:20260214
DTSTAMP:20260420T133954
CREATED:20251209T170141Z
LAST-MODIFIED:20260213T121501Z
UID:24471-1770940800-1771027199@gcusd7.org
SUMMARY:SIP Day
DESCRIPTION:
URL:https://gcusd7.org/event/sip-day/
CATEGORIES:ES Menu
END:VEVENT
BEGIN:VEVENT
DTSTART;TZID=America/Chicago:20260211T072000
DTEND;TZID=America/Chicago:20260211T074500
DTSTAMP:20260420T133954
CREATED:20250613T173711Z
LAST-MODIFIED:20260211T120426Z
UID:23533-1770794400-1770795900@gcusd7.org
SUMMARY:Grade-Level Teams Meet
DESCRIPTION:
URL:https://gcusd7.org/event/grade-level-teams-meet-24/
LOCATION:Classrooms
CATEGORIES:ES Menu
END:VEVENT
BEGIN:VEVENT
DTSTART;VALUE=DATE:20260205
DTEND;VALUE=DATE:20260206
DTSTAMP:20260420T133954
CREATED:20251209T170141Z
LAST-MODIFIED:20260205T103243Z
UID:24470-1770249600-1770335999@gcusd7.org
SUMMARY:Midterm
DESCRIPTION:
URL:https://gcusd7.org/event/midterm/
CATEGORIES:ES Menu
END:VEVENT
BEGIN:VEVENT
DTSTART;TZID=America/Chicago:20260204T072000
DTEND;TZID=America/Chicago:20260204T074500
DTSTAMP:20260420T133954
CREATED:20250613T173711Z
LAST-MODIFIED:20260204T101213Z
UID:23532-1770189600-1770191100@gcusd7.org
SUMMARY:Grade-Level Teams Meet
DESCRIPTION:
URL:https://gcusd7.org/event/grade-level-teams-meet-23/
LOCATION:Classrooms
CATEGORIES:ES Menu
END:VEVENT
BEGIN:VEVENT
DTSTART;TZID=America/Chicago:20260128T072000
DTEND;TZID=America/Chicago:20260128T074500
DTSTAMP:20260420T133954
CREATED:20250613T173711Z
LAST-MODIFIED:20260128T084345Z
UID:23531-1769584800-1769586300@gcusd7.org
SUMMARY:Grade-Level Teams Meet
DESCRIPTION:
URL:https://gcusd7.org/event/grade-level-teams-meet-22/
LOCATION:Classrooms
CATEGORIES:ES Menu
END:VEVENT
BEGIN:VEVENT
DTSTART;TZID=America/Chicago:20260127T072000
DTEND;TZID=America/Chicago:20260127T075000
DTSTAMP:20260420T133954
CREATED:20251209T170130Z
LAST-MODIFIED:20260127T082244Z
UID:24469-1769498400-1769500200@gcusd7.org
SUMMARY:Staff Meeting
DESCRIPTION:________________________________________________________________________________\nMicrosoft Teams Need help?\nJoin the meeting now\nMeeting ID: 231 862 925 623 74\nPasscode: Rk2Yf2bE\n________________________________\nFor organizers: Meeting options\n________________________________________________________________________________
URL:https://gcusd7.org/event/staff-meeting-2/
LOCATION:BES Meeting Room
CATEGORIES:ES Menu
END:VEVENT
BEGIN:VEVENT
DTSTART;TZID=America/Chicago:20260121T072000
DTEND;TZID=America/Chicago:20260121T074500
DTSTAMP:20260420T133954
CREATED:20250613T173711Z
LAST-MODIFIED:20260120T225132Z
UID:23530-1768980000-1768981500@gcusd7.org
SUMMARY:Grade-Level Teams Meet
DESCRIPTION:
URL:https://gcusd7.org/event/grade-level-teams-meet-21/
LOCATION:Classrooms
CATEGORIES:ES Menu
END:VEVENT
BEGIN:VEVENT
DTSTART;VALUE=DATE:20260119
DTEND;VALUE=DATE:20260120
DTSTAMP:20260420T133954
CREATED:20251209T170129Z
LAST-MODIFIED:20260119T224509Z
UID:24468-1768780800-1768867199@gcusd7.org
SUMMARY:NO SCHOOL- MLK JR. DAY
DESCRIPTION:
URL:https://gcusd7.org/event/no-school-mlk-jr-day/
CATEGORIES:ES Menu
END:VEVENT
BEGIN:VEVENT
DTSTART;TZID=America/Chicago:20260116T072000
DTEND;TZID=America/Chicago:20260116T075000
DTSTAMP:20260420T133954
CREATED:20251209T170129Z
LAST-MODIFIED:20260115T220149Z
UID:24467-1768548000-1768549800@gcusd7.org
SUMMARY:Volunteer Fundraising Meeting
DESCRIPTION:
URL:https://gcusd7.org/event/volunteer-fundraising-meeting/
LOCATION:BES Meeting Room
CATEGORIES:ES Menu
END:VEVENT
BEGIN:VEVENT
DTSTART;TZID=America/Chicago:20260114T072000
DTEND;TZID=America/Chicago:20260114T074500
DTSTAMP:20260420T133954
CREATED:20250613T173710Z
LAST-MODIFIED:20260113T214351Z
UID:23529-1768375200-1768376700@gcusd7.org
SUMMARY:Grade-Level Teams Meet
DESCRIPTION:
URL:https://gcusd7.org/event/grade-level-teams-meet-20/
LOCATION:Classrooms
CATEGORIES:ES Menu
END:VEVENT
BEGIN:VEVENT
DTSTART;TZID=America/Chicago:20260107T072000
DTEND;TZID=America/Chicago:20260107T074500
DTSTAMP:20260420T133954
CREATED:20250613T173710Z
LAST-MODIFIED:20260106T204342Z
UID:23528-1767770400-1767771900@gcusd7.org
SUMMARY:Grade-Level Teams Meet
DESCRIPTION:
URL:https://gcusd7.org/event/grade-level-teams-meet-19/
LOCATION:Classrooms
CATEGORIES:ES Menu
END:VEVENT
BEGIN:VEVENT
DTSTART;TZID=America/Chicago:20251231T072000
DTEND;TZID=America/Chicago:20251231T074500
DTSTAMP:20260420T133954
CREATED:20250613T173710Z
LAST-MODIFIED:20251230T193619Z
UID:23527-1767165600-1767167100@gcusd7.org
SUMMARY:Grade-Level Teams Meet
DESCRIPTION:
URL:https://gcusd7.org/event/grade-level-teams-meet-18/
LOCATION:Classrooms
CATEGORIES:ES Menu
END:VEVENT
BEGIN:VEVENT
DTSTART;TZID=America/Chicago:20251224T072000
DTEND;TZID=America/Chicago:20251224T074500
DTSTAMP:20260420T133954
CREATED:20250613T173710Z
LAST-MODIFIED:20251223T185000Z
UID:23526-1766560800-1766562300@gcusd7.org
SUMMARY:Grade-Level Teams Meet
DESCRIPTION:
URL:https://gcusd7.org/event/grade-level-teams-meet-17/
LOCATION:Classrooms
CATEGORIES:ES Menu
END:VEVENT
BEGIN:VEVENT
DTSTART;TZID=America/Chicago:20251217T072000
DTEND;TZID=America/Chicago:20251217T074500
DTSTAMP:20260420T133954
CREATED:20250613T173710Z
LAST-MODIFIED:20251216T180052Z
UID:23525-1765956000-1765957500@gcusd7.org
SUMMARY:Grade-Level Teams Meet
DESCRIPTION:
URL:https://gcusd7.org/event/grade-level-teams-meet-16/
LOCATION:Classrooms
CATEGORIES:ES Menu
END:VEVENT
BEGIN:VEVENT
DTSTART;TZID=America/Chicago:20251210T072000
DTEND;TZID=America/Chicago:20251210T074500
DTSTAMP:20260420T133954
CREATED:20250613T173656Z
LAST-MODIFIED:20251209T170242Z
UID:23524-1765351200-1765352700@gcusd7.org
SUMMARY:Grade-Level Teams Meet
DESCRIPTION:
URL:https://gcusd7.org/event/grade-level-teams-meet-15/
LOCATION:Classrooms
CATEGORIES:ES Menu
END:VEVENT
BEGIN:VEVENT
DTSTART;TZID=America/Chicago:20251209T072000
DTEND;TZID=America/Chicago:20251209T075000
DTSTAMP:20260420T133954
CREATED:20250623T220303Z
LAST-MODIFIED:20251208T164639Z
UID:23732-1765264800-1765266600@gcusd7.org
SUMMARY:Staff Meeting
DESCRIPTION:
URL:https://gcusd7.org/event/staff-meeting/
LOCATION:BES Meeting Room
CATEGORIES:ES Menu
END:VEVENT
BEGIN:VEVENT
DTSTART;TZID=America/Chicago:20251204T072000
DTEND;TZID=America/Chicago:20251204T075000
DTSTAMP:20260420T133954
CREATED:20250623T220303Z
LAST-MODIFIED:20251203T161939Z
UID:23731-1764832800-1764834600@gcusd7.org
SUMMARY:Volunteer Cmas Planning
DESCRIPTION:
URL:https://gcusd7.org/event/volunteer-cmas-planning-2/
LOCATION:BES Meeting Room
CATEGORIES:ES Menu
END:VEVENT
BEGIN:VEVENT
DTSTART;TZID=America/Chicago:20251203T072000
DTEND;TZID=America/Chicago:20251203T074500
DTSTAMP:20260420T133954
CREATED:20250613T173656Z
LAST-MODIFIED:20251202T161322Z
UID:23523-1764746400-1764747900@gcusd7.org
SUMMARY:Grade-Level Teams Meet
DESCRIPTION:
URL:https://gcusd7.org/event/grade-level-teams-meet-14/
LOCATION:Classrooms
CATEGORIES:ES Menu
END:VEVENT
BEGIN:VEVENT
DTSTART;TZID=America/Chicago:20251202T072000
DTEND;TZID=America/Chicago:20251202T075000
DTSTAMP:20260420T133954
CREATED:20250623T220250Z
LAST-MODIFIED:20251201T155524Z
UID:23730-1764660000-1764661800@gcusd7.org
SUMMARY:Volunteer Cmas Planning
DESCRIPTION:
URL:https://gcusd7.org/event/volunteer-cmas-planning/
LOCATION:BES Meeting Room
CATEGORIES:ES Menu
END:VEVENT
BEGIN:VEVENT
DTSTART;TZID=America/Chicago:20251126T072000
DTEND;TZID=America/Chicago:20251126T074500
DTSTAMP:20260420T133954
CREATED:20250613T173656Z
LAST-MODIFIED:20251125T151736Z
UID:23522-1764141600-1764143100@gcusd7.org
SUMMARY:Grade-Level Teams Meet
DESCRIPTION:
URL:https://gcusd7.org/event/grade-level-teams-meet-13/
LOCATION:Classrooms
CATEGORIES:ES Menu
END:VEVENT
END:VCALENDAR