BEGIN:VCALENDAR
VERSION:2.0
PRODID:-//Gillespie CUSD #7 - ECPv6.15.20//NONSGML v1.0//EN
CALSCALE:GREGORIAN
METHOD:PUBLISH
X-ORIGINAL-URL:https://gcusd7.org
X-WR-CALDESC:Events for Gillespie CUSD #7
REFRESH-INTERVAL;VALUE=DURATION:PT1H
X-Robots-Tag:noindex
X-PUBLISHED-TTL:PT1H
BEGIN:VTIMEZONE
TZID:America/Chicago
BEGIN:DAYLIGHT
TZOFFSETFROM:-0600
TZOFFSETTO:-0500
TZNAME:CDT
DTSTART:20250309T080000
END:DAYLIGHT
BEGIN:STANDARD
TZOFFSETFROM:-0500
TZOFFSETTO:-0600
TZNAME:CST
DTSTART:20251102T070000
END:STANDARD
BEGIN:DAYLIGHT
TZOFFSETFROM:-0600
TZOFFSETTO:-0500
TZNAME:CDT
DTSTART:20260308T080000
END:DAYLIGHT
BEGIN:STANDARD
TZOFFSETFROM:-0500
TZOFFSETTO:-0600
TZNAME:CST
DTSTART:20261101T070000
END:STANDARD
BEGIN:DAYLIGHT
TZOFFSETFROM:-0600
TZOFFSETTO:-0500
TZNAME:CDT
DTSTART:20270314T080000
END:DAYLIGHT
BEGIN:STANDARD
TZOFFSETFROM:-0500
TZOFFSETTO:-0600
TZNAME:CST
DTSTART:20271107T070000
END:STANDARD
END:VTIMEZONE
BEGIN:VTIMEZONE
TZID:America/New_York
BEGIN:DAYLIGHT
TZOFFSETFROM:-0500
TZOFFSETTO:-0400
TZNAME:EDT
DTSTART:20250309T070000
END:DAYLIGHT
BEGIN:STANDARD
TZOFFSETFROM:-0400
TZOFFSETTO:-0500
TZNAME:EST
DTSTART:20251102T060000
END:STANDARD
BEGIN:DAYLIGHT
TZOFFSETFROM:-0500
TZOFFSETTO:-0400
TZNAME:EDT
DTSTART:20260308T070000
END:DAYLIGHT
BEGIN:STANDARD
TZOFFSETFROM:-0400
TZOFFSETTO:-0500
TZNAME:EST
DTSTART:20261101T060000
END:STANDARD
BEGIN:DAYLIGHT
TZOFFSETFROM:-0500
TZOFFSETTO:-0400
TZNAME:EDT
DTSTART:20270314T070000
END:DAYLIGHT
BEGIN:STANDARD
TZOFFSETFROM:-0400
TZOFFSETTO:-0500
TZNAME:EST
DTSTART:20271107T060000
END:STANDARD
END:VTIMEZONE
BEGIN:VEVENT
DTSTART;VALUE=DATE:20260213
DTEND;VALUE=DATE:20260214
DTSTAMP:20260422T092842
CREATED:20251209T170141Z
LAST-MODIFIED:20260213T121501Z
UID:24471-1770940800-1771027199@gcusd7.org
SUMMARY:SIP Day
DESCRIPTION:
URL:https://gcusd7.org/event/sip-day/
CATEGORIES:ES Menu
END:VEVENT
BEGIN:VEVENT
DTSTART;TZID=America/New_York:20260213T083000
DTEND;TZID=America/New_York:20260213T093000
DTSTAMP:20260422T092842
CREATED:20260210T113843Z
LAST-MODIFIED:20260213T121501Z
UID:24699-1770971400-1770975000@gcusd7.org
SUMMARY:Meeting with CUSD 7
DESCRIPTION:Tara Cooper\nCUSD 7 Asst. Principal\n________________________________\nFrom: Jaiden Braundmeier  on behalf of Carl Kielbasa\nSent: Wednesday\, January 14\, 2026 1:33 PM\nTo: Tara Cooper ; Angela Sandretto\nSubject: FW: Meeting with CUSD 7\nWhen: Friday\, February 13\, 2026 7:30 AM-8:30 AM.\nWhere: Microsoft Teams Meeting\n—–Original Appointment—–\nFrom: Carl Kielbasa <ckielbasa@sadlier.com>\nSent: Tuesday\, January 13\, 2026 7:41 AM\nTo: Carl Kielbasa; Michael Brosseau; Jaiden Braundmeier\nSubject: Meeting with CUSD 7\nWhen: Friday\, February 13\, 2026 8:30 AM-9:30 AM (UTC-05:00) Eastern Time (US & Canada).\nWhere: Microsoft Teams Meeting\nSecurity Advisory\nYour security team has identified this email as EXTERNAL for the following reasons:\nPlease use extra caution when responding to\, opening links or attachments in this email. Any links in the email body may have been disabled or rewritten for security reasons.\nSetting meeting for 7:30 am\, Central Standard Time.\nLooking forward to meeting you!!\nThanks\,\nMichael Brosseau\nCarl Kielbasa\n________________________________________________________________________________\nMicrosoft Teams Need help?\nJoin the meeting now\nMeeting ID: 255 130 177 024 2\nPasscode: W4UZ7uE3\n________________________________\nFor organizers: Meeting options\n________________________________________________________________________________\nCAUTION: This email originated from outside of the organization. Do not click links or open attachments unless you recognize the sender and know the content is safe.\nCAUTION: This email originated from outside of the organization. Do not click links or open attachments unless you recognize the sender and know the content is safe.\nCAUTION: This email originated from outside of the organization. Do not click links or open attachments unless you recognize the sender and know the content is safe.
URL:https://gcusd7.org/event/meeting-with-cusd-7/
LOCATION:Microsoft Teams Meeting
CATEGORIES:ES Menu
END:VEVENT
END:VCALENDAR