BEGIN:VCALENDAR
VERSION:2.0
PRODID:-//Gillespie CUSD #7 - ECPv6.15.20//NONSGML v1.0//EN
CALSCALE:GREGORIAN
METHOD:PUBLISH
X-WR-CALNAME:Gillespie CUSD #7
X-ORIGINAL-URL:https://gcusd7.org
X-WR-CALDESC:Events for Gillespie CUSD #7
REFRESH-INTERVAL;VALUE=DURATION:PT1H
X-Robots-Tag:noindex
X-PUBLISHED-TTL:PT1H
BEGIN:VTIMEZONE
TZID:America/Chicago
BEGIN:DAYLIGHT
TZOFFSETFROM:-0600
TZOFFSETTO:-0500
TZNAME:CDT
DTSTART:20240310T080000
END:DAYLIGHT
BEGIN:STANDARD
TZOFFSETFROM:-0500
TZOFFSETTO:-0600
TZNAME:CST
DTSTART:20241103T070000
END:STANDARD
BEGIN:DAYLIGHT
TZOFFSETFROM:-0600
TZOFFSETTO:-0500
TZNAME:CDT
DTSTART:20250309T080000
END:DAYLIGHT
BEGIN:STANDARD
TZOFFSETFROM:-0500
TZOFFSETTO:-0600
TZNAME:CST
DTSTART:20251102T070000
END:STANDARD
BEGIN:DAYLIGHT
TZOFFSETFROM:-0600
TZOFFSETTO:-0500
TZNAME:CDT
DTSTART:20260308T080000
END:DAYLIGHT
BEGIN:STANDARD
TZOFFSETFROM:-0500
TZOFFSETTO:-0600
TZNAME:CST
DTSTART:20261101T070000
END:STANDARD
END:VTIMEZONE
BEGIN:VEVENT
DTSTART;TZID=America/Chicago:20250905T073000
DTEND;TZID=America/Chicago:20250905T080000
DTSTAMP:20260422T172333
CREATED:20250829T202031Z
LAST-MODIFIED:20250904T211217Z
UID:24035-1757057400-1757059200@gcusd7.org
SUMMARY:Cinnamon Roll
DESCRIPTION:
URL:https://gcusd7.org/event/cinnamon-roll-19/
CATEGORIES:ES Menu
END:VEVENT
BEGIN:VEVENT
DTSTART;TZID=America/Chicago:20250905T110000
DTEND;TZID=America/Chicago:20250905T113000
DTSTAMP:20260422T172333
CREATED:20250829T202031Z
LAST-MODIFIED:20250904T211217Z
UID:24036-1757070000-1757071800@gcusd7.org
SUMMARY:Italian Beef or Philly Hot Pocket\, Salad\, Corn & Fruit
DESCRIPTION:
URL:https://gcusd7.org/event/italian-beef-or-philly-hot-pocket-salad-corn-fruit/
CATEGORIES:ES Menu
END:VEVENT
END:VCALENDAR