BEGIN:VCALENDAR
VERSION:2.0
PRODID:-//Gillespie CUSD #7 - ECPv6.15.20//NONSGML v1.0//EN
CALSCALE:GREGORIAN
METHOD:PUBLISH
X-WR-CALNAME:Gillespie CUSD #7
X-ORIGINAL-URL:https://gcusd7.org
X-WR-CALDESC:Events for Gillespie CUSD #7
REFRESH-INTERVAL;VALUE=DURATION:PT1H
X-Robots-Tag:noindex
X-PUBLISHED-TTL:PT1H
BEGIN:VTIMEZONE
TZID:America/Chicago
BEGIN:DAYLIGHT
TZOFFSETFROM:-0600
TZOFFSETTO:-0500
TZNAME:CDT
DTSTART:20240310T080000
END:DAYLIGHT
BEGIN:STANDARD
TZOFFSETFROM:-0500
TZOFFSETTO:-0600
TZNAME:CST
DTSTART:20241103T070000
END:STANDARD
BEGIN:DAYLIGHT
TZOFFSETFROM:-0600
TZOFFSETTO:-0500
TZNAME:CDT
DTSTART:20250309T080000
END:DAYLIGHT
BEGIN:STANDARD
TZOFFSETFROM:-0500
TZOFFSETTO:-0600
TZNAME:CST
DTSTART:20251102T070000
END:STANDARD
BEGIN:DAYLIGHT
TZOFFSETFROM:-0600
TZOFFSETTO:-0500
TZNAME:CDT
DTSTART:20260308T080000
END:DAYLIGHT
BEGIN:STANDARD
TZOFFSETFROM:-0500
TZOFFSETTO:-0600
TZNAME:CST
DTSTART:20261101T070000
END:STANDARD
END:VTIMEZONE
BEGIN:VEVENT
DTSTART;TZID=America/Chicago:20250507T073000
DTEND;TZID=America/Chicago:20250507T080000
DTSTAMP:20260423T002020
CREATED:20250425T110442Z
LAST-MODIFIED:20250507T123530Z
UID:23265-1746603000-1746604800@gcusd7.org
SUMMARY:Pancakes
DESCRIPTION:
URL:https://gcusd7.org/event/pancakes-6/
CATEGORIES:ES Menu
END:VEVENT
BEGIN:VEVENT
DTSTART;TZID=America/Chicago:20250507T110000
DTEND;TZID=America/Chicago:20250507T113000
DTSTAMP:20260423T002020
CREATED:20250425T110453Z
LAST-MODIFIED:20250507T123530Z
UID:23266-1746615600-1746617400@gcusd7.org
SUMMARY:Ham & Cheese/Bun or Fish\, Tater Tots\, Salad\, Fruit
DESCRIPTION:
URL:https://gcusd7.org/event/ham-cheese-bun-or-fish-tater-tots-salad-fruit/
CATEGORIES:ES Menu
END:VEVENT
END:VCALENDAR