BEGIN:VCALENDAR
VERSION:2.0
PRODID:-//Gillespie CUSD #7 - ECPv6.15.20//NONSGML v1.0//EN
CALSCALE:GREGORIAN
METHOD:PUBLISH
X-ORIGINAL-URL:https://gcusd7.org
X-WR-CALDESC:Events for Gillespie CUSD #7
REFRESH-INTERVAL;VALUE=DURATION:PT1H
X-Robots-Tag:noindex
X-PUBLISHED-TTL:PT1H
BEGIN:VTIMEZONE
TZID:America/Chicago
BEGIN:DAYLIGHT
TZOFFSETFROM:-0600
TZOFFSETTO:-0500
TZNAME:CDT
DTSTART:20240310T080000
END:DAYLIGHT
BEGIN:STANDARD
TZOFFSETFROM:-0500
TZOFFSETTO:-0600
TZNAME:CST
DTSTART:20241103T070000
END:STANDARD
BEGIN:DAYLIGHT
TZOFFSETFROM:-0600
TZOFFSETTO:-0500
TZNAME:CDT
DTSTART:20250309T080000
END:DAYLIGHT
BEGIN:STANDARD
TZOFFSETFROM:-0500
TZOFFSETTO:-0600
TZNAME:CST
DTSTART:20251102T070000
END:STANDARD
BEGIN:DAYLIGHT
TZOFFSETFROM:-0600
TZOFFSETTO:-0500
TZNAME:CDT
DTSTART:20260308T080000
END:DAYLIGHT
BEGIN:STANDARD
TZOFFSETFROM:-0500
TZOFFSETTO:-0600
TZNAME:CST
DTSTART:20261101T070000
END:STANDARD
END:VTIMEZONE
BEGIN:VEVENT
DTSTART;TZID=America/Chicago:20250502T073000
DTEND;TZID=America/Chicago:20250502T080000
DTSTAMP:20260423T002015
CREATED:20250425T110440Z
LAST-MODIFIED:20250502T115811Z
UID:23259-1746171000-1746172800@gcusd7.org
SUMMARY:Donuts
DESCRIPTION:
URL:https://gcusd7.org/event/donuts-16/
CATEGORIES:ES Menu
END:VEVENT
BEGIN:VEVENT
DTSTART;TZID=America/Chicago:20250502T110000
DTEND;TZID=America/Chicago:20250502T113000
DTSTAMP:20260423T002015
CREATED:20250425T110441Z
LAST-MODIFIED:20250502T115811Z
UID:23260-1746183600-1746185400@gcusd7.org
SUMMARY:Chicken Nuggets or Taco Quesadilla\, Salad\, Corn\, & Fruit
DESCRIPTION:
URL:https://gcusd7.org/event/chicken-nuggets-or-taco-quesadilla-salad-corn-fruit/
CATEGORIES:ES Menu
END:VEVENT
END:VCALENDAR