BEGIN:VCALENDAR
VERSION:2.0
PRODID:-//Gillespie CUSD #7 - ECPv6.15.20//NONSGML v1.0//EN
CALSCALE:GREGORIAN
METHOD:PUBLISH
X-ORIGINAL-URL:https://gcusd7.org
X-WR-CALDESC:Events for Gillespie CUSD #7
REFRESH-INTERVAL;VALUE=DURATION:PT1H
X-Robots-Tag:noindex
X-PUBLISHED-TTL:PT1H
BEGIN:VTIMEZONE
TZID:America/Chicago
BEGIN:DAYLIGHT
TZOFFSETFROM:-0600
TZOFFSETTO:-0500
TZNAME:CDT
DTSTART:20240310T080000
END:DAYLIGHT
BEGIN:STANDARD
TZOFFSETFROM:-0500
TZOFFSETTO:-0600
TZNAME:CST
DTSTART:20241103T070000
END:STANDARD
BEGIN:DAYLIGHT
TZOFFSETFROM:-0600
TZOFFSETTO:-0500
TZNAME:CDT
DTSTART:20250309T080000
END:DAYLIGHT
BEGIN:STANDARD
TZOFFSETFROM:-0500
TZOFFSETTO:-0600
TZNAME:CST
DTSTART:20251102T070000
END:STANDARD
BEGIN:DAYLIGHT
TZOFFSETFROM:-0600
TZOFFSETTO:-0500
TZNAME:CDT
DTSTART:20260308T080000
END:DAYLIGHT
BEGIN:STANDARD
TZOFFSETFROM:-0500
TZOFFSETTO:-0600
TZNAME:CST
DTSTART:20261101T070000
END:STANDARD
END:VTIMEZONE
BEGIN:VEVENT
DTSTART;TZID=America/Chicago:20250422T073000
DTEND;TZID=America/Chicago:20250422T080000
DTSTAMP:20260423T020722
CREATED:20250402T082218Z
LAST-MODIFIED:20250422T104842Z
UID:23134-1745307000-1745308800@gcusd7.org
SUMMARY:Cherry Turnover
DESCRIPTION:
URL:https://gcusd7.org/event/cherry-turnover/
CATEGORIES:ES Menu
END:VEVENT
BEGIN:VEVENT
DTSTART;TZID=America/Chicago:20250422T110000
DTEND;TZID=America/Chicago:20250422T113000
DTSTAMP:20260423T020722
CREATED:20250402T082218Z
LAST-MODIFIED:20250422T104842Z
UID:23135-1745319600-1745321400@gcusd7.org
SUMMARY:Sausage Pizza or Italian Beef/Bun\, Salad\, Broccoli\, Fruit
DESCRIPTION:
URL:https://gcusd7.org/event/sausage-pizza-or-italian-beef-bun-salad-broccoli-fruit/
CATEGORIES:ES Menu
END:VEVENT
END:VCALENDAR