BEGIN:VCALENDAR
VERSION:2.0
PRODID:-//Gillespie CUSD #7 - ECPv6.15.20//NONSGML v1.0//EN
CALSCALE:GREGORIAN
METHOD:PUBLISH
X-ORIGINAL-URL:https://gcusd7.org
X-WR-CALDESC:Events for Gillespie CUSD #7
REFRESH-INTERVAL;VALUE=DURATION:PT1H
X-Robots-Tag:noindex
X-PUBLISHED-TTL:PT1H
BEGIN:VTIMEZONE
TZID:America/Chicago
BEGIN:DAYLIGHT
TZOFFSETFROM:-0600
TZOFFSETTO:-0500
TZNAME:CDT
DTSTART:20240310T080000
END:DAYLIGHT
BEGIN:STANDARD
TZOFFSETFROM:-0500
TZOFFSETTO:-0600
TZNAME:CST
DTSTART:20241103T070000
END:STANDARD
BEGIN:DAYLIGHT
TZOFFSETFROM:-0600
TZOFFSETTO:-0500
TZNAME:CDT
DTSTART:20250309T080000
END:DAYLIGHT
BEGIN:STANDARD
TZOFFSETFROM:-0500
TZOFFSETTO:-0600
TZNAME:CST
DTSTART:20251102T070000
END:STANDARD
BEGIN:DAYLIGHT
TZOFFSETFROM:-0600
TZOFFSETTO:-0500
TZNAME:CDT
DTSTART:20260308T080000
END:DAYLIGHT
BEGIN:STANDARD
TZOFFSETFROM:-0500
TZOFFSETTO:-0600
TZNAME:CST
DTSTART:20261101T070000
END:STANDARD
END:VTIMEZONE
BEGIN:VEVENT
DTSTART;TZID=America/Chicago:20250314T073000
DTEND;TZID=America/Chicago:20250314T080000
DTSTAMP:20260423T033128
CREATED:20250224T193642Z
LAST-MODIFIED:20250313T214918Z
UID:22859-1741937400-1741939200@gcusd7.org
SUMMARY:Cheese Omelet
DESCRIPTION:
URL:https://gcusd7.org/event/cheese-omelet-11/
CATEGORIES:ES Menu
END:VEVENT
BEGIN:VEVENT
DTSTART;TZID=America/Chicago:20250314T110000
DTEND;TZID=America/Chicago:20250314T113000
DTSTAMP:20260423T033128
CREATED:20250224T193642Z
LAST-MODIFIED:20250313T214918Z
UID:22860-1741950000-1741951800@gcusd7.org
SUMMARY:Cheese Tort Soup or Corn Dog\, Salad\, Carrots\, Fruit
DESCRIPTION:
URL:https://gcusd7.org/event/cheese-tort-soup-or-corn-dog-salad-carrots-fruit/
CATEGORIES:ES Menu
END:VEVENT
END:VCALENDAR