BEGIN:VCALENDAR
VERSION:2.0
PRODID:-//Gillespie CUSD #7 - ECPv6.15.20//NONSGML v1.0//EN
CALSCALE:GREGORIAN
METHOD:PUBLISH
X-WR-CALNAME:Gillespie CUSD #7
X-ORIGINAL-URL:https://gcusd7.org
X-WR-CALDESC:Events for Gillespie CUSD #7
REFRESH-INTERVAL;VALUE=DURATION:PT1H
X-Robots-Tag:noindex
X-PUBLISHED-TTL:PT1H
BEGIN:VTIMEZONE
TZID:America/Chicago
BEGIN:DAYLIGHT
TZOFFSETFROM:-0600
TZOFFSETTO:-0500
TZNAME:CDT
DTSTART:20240310T080000
END:DAYLIGHT
BEGIN:STANDARD
TZOFFSETFROM:-0500
TZOFFSETTO:-0600
TZNAME:CST
DTSTART:20241103T070000
END:STANDARD
BEGIN:DAYLIGHT
TZOFFSETFROM:-0600
TZOFFSETTO:-0500
TZNAME:CDT
DTSTART:20250309T080000
END:DAYLIGHT
BEGIN:STANDARD
TZOFFSETFROM:-0500
TZOFFSETTO:-0600
TZNAME:CST
DTSTART:20251102T070000
END:STANDARD
BEGIN:DAYLIGHT
TZOFFSETFROM:-0600
TZOFFSETTO:-0500
TZNAME:CDT
DTSTART:20260308T080000
END:DAYLIGHT
BEGIN:STANDARD
TZOFFSETFROM:-0500
TZOFFSETTO:-0600
TZNAME:CST
DTSTART:20261101T070000
END:STANDARD
END:VTIMEZONE
BEGIN:VEVENT
DTSTART;TZID=America/Chicago:20250212T073000
DTEND;TZID=America/Chicago:20250212T080000
DTSTAMP:20260423T051129
CREATED:20250129T161548Z
LAST-MODIFIED:20250211T180835Z
UID:22675-1739345400-1739347200@gcusd7.org
SUMMARY:Confetti Pancake
DESCRIPTION:
URL:https://gcusd7.org/event/confetti-pancake-6/
CATEGORIES:ES Menu
END:VEVENT
BEGIN:VEVENT
DTSTART;TZID=America/Chicago:20250212T090000
DTEND;TZID=America/Chicago:20250212T093000
DTSTAMP:20260423T051129
CREATED:20250129T161600Z
LAST-MODIFIED:20250211T180835Z
UID:22676-1739350800-1739352600@gcusd7.org
SUMMARY:Bake Sale
DESCRIPTION:
URL:https://gcusd7.org/event/bake-sale-2/
CATEGORIES:ES Menu
END:VEVENT
BEGIN:VEVENT
DTSTART;TZID=America/Chicago:20250212T110000
DTEND;TZID=America/Chicago:20250212T113000
DTSTAMP:20260423T051129
CREATED:20250129T161600Z
LAST-MODIFIED:20250211T180835Z
UID:22677-1739358000-1739359800@gcusd7.org
SUMMARY:Chicken Noodle Soup or Toasted Cheese\, Salad\, Carrots\, & Fruit
DESCRIPTION:
URL:https://gcusd7.org/event/chicken-noodle-soup-or-toasted-cheese-salad-carrots-fruit/
CATEGORIES:ES Menu
END:VEVENT
END:VCALENDAR