BEGIN:VCALENDAR
VERSION:2.0
PRODID:-//Gillespie CUSD #7 - ECPv6.15.20//NONSGML v1.0//EN
CALSCALE:GREGORIAN
METHOD:PUBLISH
X-WR-CALNAME:Gillespie CUSD #7
X-ORIGINAL-URL:https://gcusd7.org
X-WR-CALDESC:Events for Gillespie CUSD #7
REFRESH-INTERVAL;VALUE=DURATION:PT1H
X-Robots-Tag:noindex
X-PUBLISHED-TTL:PT1H
BEGIN:VTIMEZONE
TZID:America/Chicago
BEGIN:DAYLIGHT
TZOFFSETFROM:-0600
TZOFFSETTO:-0500
TZNAME:CDT
DTSTART:20240310T080000
END:DAYLIGHT
BEGIN:STANDARD
TZOFFSETFROM:-0500
TZOFFSETTO:-0600
TZNAME:CST
DTSTART:20241103T070000
END:STANDARD
BEGIN:DAYLIGHT
TZOFFSETFROM:-0600
TZOFFSETTO:-0500
TZNAME:CDT
DTSTART:20250309T080000
END:DAYLIGHT
BEGIN:STANDARD
TZOFFSETFROM:-0500
TZOFFSETTO:-0600
TZNAME:CST
DTSTART:20251102T070000
END:STANDARD
BEGIN:DAYLIGHT
TZOFFSETFROM:-0600
TZOFFSETTO:-0500
TZNAME:CDT
DTSTART:20260308T080000
END:DAYLIGHT
BEGIN:STANDARD
TZOFFSETFROM:-0500
TZOFFSETTO:-0600
TZNAME:CST
DTSTART:20261101T070000
END:STANDARD
END:VTIMEZONE
BEGIN:VEVENT
DTSTART;TZID=America/Chicago:20250207T073000
DTEND;TZID=America/Chicago:20250207T080000
DTSTAMP:20260423T051131
CREATED:20250129T161547Z
LAST-MODIFIED:20250206T172949Z
UID:22669-1738913400-1738915200@gcusd7.org
SUMMARY:Mini Strawberry Bagels
DESCRIPTION:
URL:https://gcusd7.org/event/mini-strawberry-bagels-5/
CATEGORIES:ES Menu
END:VEVENT
BEGIN:VEVENT
DTSTART;TZID=America/Chicago:20250207T110000
DTEND;TZID=America/Chicago:20250207T113000
DTSTAMP:20260423T051131
CREATED:20250129T161547Z
LAST-MODIFIED:20250206T172949Z
UID:22670-1738926000-1738927800@gcusd7.org
SUMMARY:Corn Dogs or Fish\, Salad\, French Fries\, or Fruit
DESCRIPTION:
URL:https://gcusd7.org/event/corn-dogs-or-fish-salad-french-fries-or-fruit/
CATEGORIES:ES Menu
END:VEVENT
END:VCALENDAR