BEGIN:VCALENDAR
VERSION:2.0
PRODID:-//Gillespie CUSD #7 - ECPv6.15.20//NONSGML v1.0//EN
CALSCALE:GREGORIAN
METHOD:PUBLISH
X-ORIGINAL-URL:https://gcusd7.org
X-WR-CALDESC:Events for Gillespie CUSD #7
REFRESH-INTERVAL;VALUE=DURATION:PT1H
X-Robots-Tag:noindex
X-PUBLISHED-TTL:PT1H
BEGIN:VTIMEZONE
TZID:America/Chicago
BEGIN:DAYLIGHT
TZOFFSETFROM:-0600
TZOFFSETTO:-0500
TZNAME:CDT
DTSTART:20240310T080000
END:DAYLIGHT
BEGIN:STANDARD
TZOFFSETFROM:-0500
TZOFFSETTO:-0600
TZNAME:CST
DTSTART:20241103T070000
END:STANDARD
BEGIN:DAYLIGHT
TZOFFSETFROM:-0600
TZOFFSETTO:-0500
TZNAME:CDT
DTSTART:20250309T080000
END:DAYLIGHT
BEGIN:STANDARD
TZOFFSETFROM:-0500
TZOFFSETTO:-0600
TZNAME:CST
DTSTART:20251102T070000
END:STANDARD
BEGIN:DAYLIGHT
TZOFFSETFROM:-0600
TZOFFSETTO:-0500
TZNAME:CDT
DTSTART:20260308T080000
END:DAYLIGHT
BEGIN:STANDARD
TZOFFSETFROM:-0500
TZOFFSETTO:-0600
TZNAME:CST
DTSTART:20261101T070000
END:STANDARD
END:VTIMEZONE
BEGIN:VEVENT
DTSTART;TZID=America/Chicago:20250131T080000
DTEND;TZID=America/Chicago:20250131T083000
DTSTAMP:20260423T051203
CREATED:20250117T145017Z
LAST-MODIFIED:20250130T162659Z
UID:22600-1738310400-1738312200@gcusd7.org
SUMMARY:Blueberry Bread
DESCRIPTION:
URL:https://gcusd7.org/event/blueberry-bread/
CATEGORIES:ES Menu
END:VEVENT
BEGIN:VEVENT
DTSTART;TZID=America/Chicago:20250131T110000
DTEND;TZID=America/Chicago:20250131T113000
DTSTAMP:20260423T051203
CREATED:20250117T145017Z
LAST-MODIFIED:20250131T163032Z
UID:22601-1738321200-1738323000@gcusd7.org
SUMMARY:Meatballs or Toasted Raviolis\, Salad\, Garlic Toast & Fruit
DESCRIPTION:
URL:https://gcusd7.org/event/meatballs-or-toasted-raviolis-salad-garlic-toast-fruit/
CATEGORIES:ES Menu
END:VEVENT
END:VCALENDAR