BEGIN:VCALENDAR
VERSION:2.0
PRODID:-//Gillespie CUSD #7 - ECPv6.15.20//NONSGML v1.0//EN
CALSCALE:GREGORIAN
METHOD:PUBLISH
X-WR-CALNAME:Gillespie CUSD #7
X-ORIGINAL-URL:https://gcusd7.org
X-WR-CALDESC:Events for Gillespie CUSD #7
REFRESH-INTERVAL;VALUE=DURATION:PT1H
X-Robots-Tag:noindex
X-PUBLISHED-TTL:PT1H
BEGIN:VTIMEZONE
TZID:America/Chicago
BEGIN:DAYLIGHT
TZOFFSETFROM:-0600
TZOFFSETTO:-0500
TZNAME:CDT
DTSTART:20240310T080000
END:DAYLIGHT
BEGIN:STANDARD
TZOFFSETFROM:-0500
TZOFFSETTO:-0600
TZNAME:CST
DTSTART:20241103T070000
END:STANDARD
BEGIN:DAYLIGHT
TZOFFSETFROM:-0600
TZOFFSETTO:-0500
TZNAME:CDT
DTSTART:20250309T080000
END:DAYLIGHT
BEGIN:STANDARD
TZOFFSETFROM:-0500
TZOFFSETTO:-0600
TZNAME:CST
DTSTART:20251102T070000
END:STANDARD
BEGIN:DAYLIGHT
TZOFFSETFROM:-0600
TZOFFSETTO:-0500
TZNAME:CDT
DTSTART:20260308T080000
END:DAYLIGHT
BEGIN:STANDARD
TZOFFSETFROM:-0500
TZOFFSETTO:-0600
TZNAME:CST
DTSTART:20261101T070000
END:STANDARD
END:VTIMEZONE
BEGIN:VEVENT
DTSTART;TZID=America/Chicago:20250124T073000
DTEND;TZID=America/Chicago:20250124T080000
DTSTAMP:20260423T064508
CREATED:20250117T145003Z
LAST-MODIFIED:20250123T153014Z
UID:22590-1737703800-1737705600@gcusd7.org
SUMMARY:Sausage Egg Cheese Biscuit
DESCRIPTION:
URL:https://gcusd7.org/event/sausage-egg-cheese-biscuit-2/
CATEGORIES:ES Menu
END:VEVENT
BEGIN:VEVENT
DTSTART;TZID=America/Chicago:20250124T110000
DTEND;TZID=America/Chicago:20250124T113000
DTSTAMP:20260423T064508
CREATED:20250117T145003Z
LAST-MODIFIED:20250124T154735Z
UID:22591-1737716400-1737718200@gcusd7.org
SUMMARY:Chicken Sliders or Italian Wraps\, Pasta Salad\, Fruit & Tater Tots
DESCRIPTION:
URL:https://gcusd7.org/event/chicken-sliders-or-italian-wraps-pasta-salad-fruit-tater-tots/
CATEGORIES:ES Menu
END:VEVENT
END:VCALENDAR