BEGIN:VCALENDAR
VERSION:2.0
PRODID:-//Gillespie CUSD #7 - ECPv6.15.20//NONSGML v1.0//EN
CALSCALE:GREGORIAN
METHOD:PUBLISH
X-ORIGINAL-URL:https://gcusd7.org
X-WR-CALDESC:Events for Gillespie CUSD #7
REFRESH-INTERVAL;VALUE=DURATION:PT1H
X-Robots-Tag:noindex
X-PUBLISHED-TTL:PT1H
BEGIN:VTIMEZONE
TZID:America/Chicago
BEGIN:DAYLIGHT
TZOFFSETFROM:-0600
TZOFFSETTO:-0500
TZNAME:CDT
DTSTART:20240310T080000
END:DAYLIGHT
BEGIN:STANDARD
TZOFFSETFROM:-0500
TZOFFSETTO:-0600
TZNAME:CST
DTSTART:20241103T070000
END:STANDARD
BEGIN:DAYLIGHT
TZOFFSETFROM:-0600
TZOFFSETTO:-0500
TZNAME:CDT
DTSTART:20250309T080000
END:DAYLIGHT
BEGIN:STANDARD
TZOFFSETFROM:-0500
TZOFFSETTO:-0600
TZNAME:CST
DTSTART:20251102T070000
END:STANDARD
BEGIN:DAYLIGHT
TZOFFSETFROM:-0600
TZOFFSETTO:-0500
TZNAME:CDT
DTSTART:20260308T080000
END:DAYLIGHT
BEGIN:STANDARD
TZOFFSETFROM:-0500
TZOFFSETTO:-0600
TZNAME:CST
DTSTART:20261101T070000
END:STANDARD
END:VTIMEZONE
BEGIN:VEVENT
DTSTART;TZID=America/Chicago:20250107T070000
DTEND;TZID=America/Chicago:20250107T073000
DTSTAMP:20260423T132236
CREATED:20241221T104419Z
LAST-MODIFIED:20250107T132009Z
UID:22474-1736233200-1736235000@gcusd7.org
SUMMARY:Students return
DESCRIPTION:
URL:https://gcusd7.org/event/students-return/
CATEGORIES:ES Menu
END:VEVENT
BEGIN:VEVENT
DTSTART;TZID=America/Chicago:20250107T073000
DTEND;TZID=America/Chicago:20250107T080000
DTSTAMP:20260423T132236
CREATED:20241221T104419Z
LAST-MODIFIED:20250107T132009Z
UID:22475-1736235000-1736236800@gcusd7.org
SUMMARY:Blueberry and Banana Bread
DESCRIPTION:
URL:https://gcusd7.org/event/blueberry-and-banana-bread/
CATEGORIES:ES Menu
END:VEVENT
BEGIN:VEVENT
DTSTART;TZID=America/Chicago:20250107T110000
DTEND;TZID=America/Chicago:20250107T113000
DTSTAMP:20260423T132236
CREATED:20241221T104419Z
LAST-MODIFIED:20250107T132009Z
UID:22476-1736247600-1736249400@gcusd7.org
SUMMARY:Chicken Noodles or Pork Patty\, Salad\, Fruit\, Cheese Stick
DESCRIPTION:
URL:https://gcusd7.org/event/chicken-noodles-or-pork-patty-salad-fruit-cheese-stick/
CATEGORIES:ES Menu
END:VEVENT
END:VCALENDAR