BEGIN:VCALENDAR
VERSION:2.0
PRODID:-//Gillespie CUSD #7 - ECPv6.15.20//NONSGML v1.0//EN
CALSCALE:GREGORIAN
METHOD:PUBLISH
X-ORIGINAL-URL:https://gcusd7.org
X-WR-CALDESC:Events for Gillespie CUSD #7
REFRESH-INTERVAL;VALUE=DURATION:PT1H
X-Robots-Tag:noindex
X-PUBLISHED-TTL:PT1H
BEGIN:VTIMEZONE
TZID:America/Chicago
BEGIN:DAYLIGHT
TZOFFSETFROM:-0600
TZOFFSETTO:-0500
TZNAME:CDT
DTSTART:20230312T080000
END:DAYLIGHT
BEGIN:STANDARD
TZOFFSETFROM:-0500
TZOFFSETTO:-0600
TZNAME:CST
DTSTART:20231105T070000
END:STANDARD
BEGIN:DAYLIGHT
TZOFFSETFROM:-0600
TZOFFSETTO:-0500
TZNAME:CDT
DTSTART:20240310T080000
END:DAYLIGHT
BEGIN:STANDARD
TZOFFSETFROM:-0500
TZOFFSETTO:-0600
TZNAME:CST
DTSTART:20241103T070000
END:STANDARD
BEGIN:DAYLIGHT
TZOFFSETFROM:-0600
TZOFFSETTO:-0500
TZNAME:CDT
DTSTART:20250309T080000
END:DAYLIGHT
BEGIN:STANDARD
TZOFFSETFROM:-0500
TZOFFSETTO:-0600
TZNAME:CST
DTSTART:20251102T070000
END:STANDARD
END:VTIMEZONE
BEGIN:VEVENT
DTSTART;TZID=America/Chicago:20241220T073000
DTEND;TZID=America/Chicago:20241220T080000
DTSTAMP:20260423T150608
CREATED:20241211T093106Z
LAST-MODIFIED:20241220T104148Z
UID:22423-1734679800-1734681600@gcusd7.org
SUMMARY:Sausage Patties
DESCRIPTION:
URL:https://gcusd7.org/event/sausage-patties-5/
CATEGORIES:ES Menu
END:VEVENT
BEGIN:VEVENT
DTSTART;TZID=America/Chicago:20241220T110000
DTEND;TZID=America/Chicago:20241220T113000
DTSTAMP:20260423T150608
CREATED:20241211T093106Z
LAST-MODIFIED:20241220T104148Z
UID:22424-1734692400-1734694200@gcusd7.org
SUMMARY:Ham & Cheese Hot Pocket or Pepperoni Hot Pocket\, Corn\, Rice Krispy Treats\, Fruit
DESCRIPTION:
URL:https://gcusd7.org/event/ham-cheese-hot-pocket-or-pepperoni-hot-pocket-corn-rice-krispy-treats-fruit/
CATEGORIES:ES Menu
END:VEVENT
BEGIN:VEVENT
DTSTART;TZID=America/Chicago:20241220T133000
DTEND;TZID=America/Chicago:20241220T140000
DTSTAMP:20260423T150608
CREATED:20241204T235302Z
LAST-MODIFIED:20241220T104148Z
UID:22368-1734701400-1734703200@gcusd7.org
SUMMARY:Early Dismissal   1:45pm
DESCRIPTION:
URL:https://gcusd7.org/event/early-dismissal-145pm/
CATEGORIES:ES Menu
END:VEVENT
END:VCALENDAR