BEGIN:VCALENDAR
VERSION:2.0
PRODID:-//Gillespie CUSD #7 - ECPv6.15.20//NONSGML v1.0//EN
CALSCALE:GREGORIAN
METHOD:PUBLISH
X-WR-CALNAME:Gillespie CUSD #7
X-ORIGINAL-URL:https://gcusd7.org
X-WR-CALDESC:Events for Gillespie CUSD #7
REFRESH-INTERVAL;VALUE=DURATION:PT1H
X-Robots-Tag:noindex
X-PUBLISHED-TTL:PT1H
BEGIN:VTIMEZONE
TZID:America/Chicago
BEGIN:DAYLIGHT
TZOFFSETFROM:-0600
TZOFFSETTO:-0500
TZNAME:CDT
DTSTART:20230312T080000
END:DAYLIGHT
BEGIN:STANDARD
TZOFFSETFROM:-0500
TZOFFSETTO:-0600
TZNAME:CST
DTSTART:20231105T070000
END:STANDARD
BEGIN:DAYLIGHT
TZOFFSETFROM:-0600
TZOFFSETTO:-0500
TZNAME:CDT
DTSTART:20240310T080000
END:DAYLIGHT
BEGIN:STANDARD
TZOFFSETFROM:-0500
TZOFFSETTO:-0600
TZNAME:CST
DTSTART:20241103T070000
END:STANDARD
BEGIN:DAYLIGHT
TZOFFSETFROM:-0600
TZOFFSETTO:-0500
TZNAME:CDT
DTSTART:20250309T080000
END:DAYLIGHT
BEGIN:STANDARD
TZOFFSETFROM:-0500
TZOFFSETTO:-0600
TZNAME:CST
DTSTART:20251102T070000
END:STANDARD
END:VTIMEZONE
BEGIN:VEVENT
DTSTART;TZID=America/Chicago:20241213T073000
DTEND;TZID=America/Chicago:20241213T080000
DTSTAMP:20260423T145659
CREATED:20241211T093053Z
LAST-MODIFIED:20241213T093542Z
UID:22413-1734075000-1734076800@gcusd7.org
SUMMARY:Cinnamon Roll
DESCRIPTION:
URL:https://gcusd7.org/event/cinnamon-roll-13/
CATEGORIES:ES Menu
END:VEVENT
BEGIN:VEVENT
DTSTART;TZID=America/Chicago:20241213T100000
DTEND;TZID=America/Chicago:20241213T103000
DTSTAMP:20260423T145659
CREATED:20241204T235302Z
LAST-MODIFIED:20241213T093542Z
UID:22367-1734084000-1734085800@gcusd7.org
SUMMARY:1st grade parent activity
DESCRIPTION:
URL:https://gcusd7.org/event/1st-grade-parent-activity-2/
CATEGORIES:ES Menu
END:VEVENT
BEGIN:VEVENT
DTSTART;TZID=America/Chicago:20241213T110000
DTEND;TZID=America/Chicago:20241213T113000
DTSTAMP:20260423T145659
CREATED:20241211T093053Z
LAST-MODIFIED:20241213T093542Z
UID:22414-1734087600-1734089400@gcusd7.org
SUMMARY:Crispitos or Taco Quesadilla\, Cheese\, Lettuce\, Corn\, Fruit\, Beans and Rice
DESCRIPTION:
URL:https://gcusd7.org/event/crispitos-or-taco-quesadilla-cheese-lettuce-corn-fruit-beans-and-rice/
CATEGORIES:ES Menu
END:VEVENT
END:VCALENDAR